BEGIN:VCALENDAR
VERSION:2.0
PRODID:-//evangelische-termine.de//NONSGML kigkonsult.se iCalcreator 2.18//
CALSCALE:GREGORIAN
METHOD:PUBLISH
X-WR-CALNAME:iCal Evangelische-Termine 21.04.2026
X-WR-CALDESC:iCalender von Evangelische-Termine (21.04.2026)
X-WR-TIMEZONE:Europe/Berlin
X-MS-OLK-FORCEINSPECTOROPEN:TRUE
BEGIN:VTIMEZONE
TZID:Europe/Berlin
BEGIN:STANDARD
DTSTART:19701025T030000
TZOFFSETFROM:+0200
TZOFFSETTO:+0100
RRULE:FREQ=YEARLY;BYDAY=-1SU;BYMONTH=10
TZNAME:CET
END:STANDARD
BEGIN:DAYLIGHT
DTSTART:19700329T020000
TZOFFSETFROM:+0100
TZOFFSETTO:+0200
RRULE:FREQ=YEARLY;BYDAY=-1SU;BYMONTH=3
TZNAME:CEST
END:DAYLIGHT
END:VTIMEZONE
BEGIN:VEVENT
UID:20250830T161500-100714@evangelische-termine.de
DTSTAMP:20260421T110206Z
DESCRIPTION:\nOnline/Offline: Präsenz\nVeranstaltungsort: *) siehe Beschrei
 bung\n Sachsen\nPreis/Kosten: Eintritt frei\nKurzbeschreibung / Untertitel
 : Das SachsenSofa zu Kinderrechten im Grundgesetz\nAusführliche Beschreibu
 ng: Kinder sollen sich entfalten\, mitreden und mitgestalten können – doch
  im Alltag werden ihre Rechte oft übersehen. Obwohl die UN-Kinderrechtskon
 vention seit über 30 Jahren gilt\, fehlt den Kinderrechten in Deutschland 
 bis heute ein klarer Platz im Grundgesetz. Was bedeutet das für junge Mens
 chen in unserem Land – und für eine Gesellschaft\, die alle mitnehmen will
 ?\n\nBeim nächsten SachsenSofa geht es um eine zentrale Frage: Brauchen Ki
 nderrechte eine Verankerung im Grundgesetz\, um wirklich wirksam zu sein? 
 Wie sieht eine Gesellschaft aus\, in der Kinder und Jugendliche gehört wer
 den – in der Familie\, in der Schule\, in der Politik? Und was muss sich ä
 ndern\, damit aus Rechten echte Teilhabe wird?\n\nAuf dem Podium diskutier
 en Petra Köpping\, Sächsische Staatsministerin für Soziales und Gesellscha
 ftlichen Zusammenhalt\, und Prof. Dr. Jörg Maiwald\, Professor für Kinder-
  und Jugendhilfe an der Hochschule Mittweida. Gemeinsam nehmen sie in den 
 Blick\, wie Politik\, Recht und Praxis zusammenwirken müssen\, um Kinderre
 chte zu stärken – nicht nur auf dem Papier\, sondern im echten Leben.\n\nD
 as SachsenSofa findet im Rahmen des Kulturkirchenfestes zum Kulturhauptsta
 dt-Jahr 2025 in Chemnitz statt. Damit ist es Teil eines besonderen Moments
 : einer Stadt und Region\, die sich neu erzählt – mit Raum für Dialog\, Vi
 elfalt und die Stimmen der Jüngsten.\n\nSOFAGÄSTE\n- Susann Rüthrich\, Kin
 der– und Jugendbeauftragte der Sächsischen Staatsregierung\n- Prof. Dr. Jö
 rg Maywald\, Honorarprofessor für Kinderrechte und Kinderschutz an der Fac
 hhochschule Potsdam\n- Tino Landmann\, Geschäftsbereichsleiter Kinder- und
  Jugendhilfe\, SFZ Förderzentrum gGmbH\n\nORT\nKulturkirchenfest in Chemni
 tz\, Theaterstraße 3\, 09001 Chemnitz\n\nKOOPERATION\nKatholische Akademie
  des Bistums Dresden-Meißen\, Sachsen Fernsehen\n\nLIVESTREAM\nDer Livestr
 eam muss leider entfallen.\n\nHINWEIS\nAuf der Veranstaltung werden Ton- u
 nd Filmaufnahmen zur Veröffentlichungszwecken gemacht.\n\nAUSSTRAHLUNG IM 
 TV\nDie Aufzeichnung der Veranstaltung wird am Sonntag\, den 07.09. um 20 
 Uhr auf den Kanälen des Sachsen-Fernsehens ausgestrahlt.\nReferent/-innen:
  - Susann Rüthrich\, Kinder– und Jugendbeauftragte der Sächsischen Staatsr
 egierung\n- Prof. Dr. Jörg Maywald\, Honorarprofessor für Kinderrechte und
  Kinderschutz an der Fachhochschule Potsdam\n- Tino Landmann\, Geschäftsbe
 reichsleiter Kinder- und Jugendhilfe\, SFZ Förderzentrum gGmbH\nInformatio
 nen / Anmeldung: www.sachsensofa.de\nArt der Veranstaltung: Fortbildungen/
 Seminare/Vorträge
DTSTART;TZID=Europe/Berlin:20250830T161500
DTEND;TZID=Europe/Berlin:20250830T171500
LOCATION:Sachsen: *) siehe Beschreibung
SUMMARY:Kinder stärken. Per Gesetz? :: Das SachsenSofa zu Kinderrechten im 
 Grundgesetz
URL:https://kalender.evlks.de/veranstaltung_im_detail100714.html
END:VEVENT
END:VCALENDAR
