BEGIN:VCALENDAR
VERSION:2.0
PRODID:-//evangelische-termine.de//NONSGML kigkonsult.se iCalcreator 2.18//
CALSCALE:GREGORIAN
METHOD:PUBLISH
X-WR-CALNAME:iCal Evangelische-Termine 25.04.2026
X-WR-CALDESC:iCalender von Evangelische-Termine (25.04.2026)
X-WR-TIMEZONE:Europe/Berlin
X-MS-OLK-FORCEINSPECTOROPEN:TRUE
BEGIN:VTIMEZONE
TZID:Europe/Berlin
BEGIN:STANDARD
DTSTART:19701025T030000
TZOFFSETFROM:+0200
TZOFFSETTO:+0100
RRULE:FREQ=YEARLY;BYDAY=-1SU;BYMONTH=10
TZNAME:CET
END:STANDARD
BEGIN:DAYLIGHT
DTSTART:19700329T020000
TZOFFSETFROM:+0100
TZOFFSETTO:+0200
RRULE:FREQ=YEARLY;BYDAY=-1SU;BYMONTH=3
TZNAME:CEST
END:DAYLIGHT
END:VTIMEZONE
BEGIN:VEVENT
UID:20261026T100000-106206@evangelische-termine.de
DTSTAMP:20260425T014245Z
DESCRIPTION:\nOnline/Offline: Präsenz\nVeranstaltungsort: Klosterhof St. Af
 ra Meißen\nFreiheit 16\n01662 Meißen\nPreis/Kosten: Teilnehmende außerhalb
  der Landeskirche:\nKurskosten: 780\,- Euro (pro Modul 260\,- Euro)\nÜN un
 d VP:   540\,- Euro (pro Modul 180\,- Euro)\n\nTeilnehmende der Ev.-Luth. 
 Landeskirche Sachsens:\nFür Teilnehmende der Landeskirche werden die Koste
 n maßgeblich gestützt.\nKurskosten: 360\,- Euro (pro Modul 120\,- Euro)\nÜ
 N und VP:   180\,- Euro (pro Modul 60\,- Euro)\nAusführliche Beschreibung:
  Ehrenamtliches Engagement ist in gesellschaftlichen und kirchlichen Organ
 isationen unverzichtbar\, ermöglicht Teilhabe und fördert persönliche Komp
 etenzen. Immer mehr Menschen fragen nach guten Bedingungen und einer werts
 chätzenden Unterstützung für ihr Engagement. Sie nehmen aufmerksam wahr\, 
 ob eine Kirchgemeinde\, ein Verein oder eine diakonische Einrichtung eine 
 förderliche Ehrenamtskultur entwickelt hat. Der Aufbaukurs unterstützt Sie
 \, ehrenamtliches Engagement in einer Organisation nicht nur zu wollen\, s
 ondern professionell zu etablieren. Die Teilnehmenden lernen die Methodik\
 , die Instrumente und die Wege zur Implementierung eines systematischen un
 d strategischen Freiwilligenmanagements kennen und erproben diese. Sie wer
 den mit der Rolle und den Aufgaben einer Ehrenamtsmanagerin bzw. eines Ehr
 enamtsmanagers vertraut gemacht und entwickeln Konzepte\, um eine engageme
 ntfreundliche Kultur in der eigenen Organisation aufzubauen.\n\nZeitumfang
  und Termine:\nDie Qualifizierung umfasst 54 Zeitstunden\, die sich auf dr
 ei Module mit je drei Tagen verteilen.\nMODUL 1: 26. – 28. Oktober 2026\nM
 ODUL 2: 06. – 08. April 2027\nMODUL 3: 14. – 16. September 2027\n\nAnmelde
 schluss: 31.08.2026\nKontakt: Ehrenamtsakademie der EVLKS\nFreiheit 15\, 0
 1662 Meißen\nTelefon: 03521 470653\nE-Mail: ehrenamtsakademie@evlks.de\nww
 w.ehrenamtsakademie-sachsen.de\nReferent/-innen: Carola Reifenhäuser\, Dip
 l. Pädagogin\, Dipl. Sozialpädagogin\nOliver Reifenhäuser\, Dipl. Ingenieu
 r\, Gestalt– und Organisationsberater\nInformationen / Anmeldung: Carola u
 nd Oliver Reifenhäuser\nArt der Veranstaltung: Fortbildungen/Seminare/Vort
 räge
DTSTART;TZID=Europe/Berlin:20261026T100000
DTEND;TZID=Europe/Berlin:20270916T150000
LOCATION:Meißen: Klosterhof St. Afra Meißen
SUMMARY:Weiterbildung 'Strategisches Ehrenamtsmanagement'
URL:https://kalender.evlks.de/veranstaltung_im_detail106206.html
END:VEVENT
END:VCALENDAR
