BEGIN:VCALENDAR
VERSION:2.0
PRODID:-//evangelische-termine.de//NONSGML kigkonsult.se iCalcreator 2.18//
CALSCALE:GREGORIAN
METHOD:PUBLISH
X-WR-CALNAME:iCal Evangelische-Termine 22.04.2026
X-WR-CALDESC:iCalender von Evangelische-Termine (22.04.2026)
X-WR-TIMEZONE:Europe/Berlin
X-MS-OLK-FORCEINSPECTOROPEN:TRUE
BEGIN:VTIMEZONE
TZID:Europe/Berlin
BEGIN:STANDARD
DTSTART:19701025T030000
TZOFFSETFROM:+0200
TZOFFSETTO:+0100
RRULE:FREQ=YEARLY;BYDAY=-1SU;BYMONTH=10
TZNAME:CET
END:STANDARD
BEGIN:DAYLIGHT
DTSTART:19700329T020000
TZOFFSETFROM:+0100
TZOFFSETTO:+0200
RRULE:FREQ=YEARLY;BYDAY=-1SU;BYMONTH=3
TZNAME:CEST
END:DAYLIGHT
END:VTIMEZONE
BEGIN:VEVENT
UID:20251004T200000-108460@evangelische-termine.de
DTSTAMP:20260422T085755Z
DESCRIPTION:\nVeranstaltungsort: St. Jakobikirche Chemnitz\nJakobikirchplat
 z 1\n09111 Chemnitz\nAusführliche Beschreibung: Nacht der Lichter\nLiebe F
 reunde\,\n\nwir laden euch herzlich zur Nacht der Lichter in Chemnitz ein 
 – einem besonderen Abend\, der euch die Möglichkeit gibt\, in Ruhe und Bes
 innung zur inneren Einkehr zu kommen und gemeinsam mit anderen in der Stil
 le des Gebets und der Musik zu feiern.\n\nWas erwartet euch?\n\n✨ Meditati
 ve Lieder und Musik – Die Nacht der Lichter ist bekannt für ihre besonders
  stimmungsvolle Musik und die einladende Atmosphäre.\n\n✨ Gebet und Stille
  – Wir nehmen uns Zeit für gemeinsames Gebet\, Momente der Stille und Besi
 nnung\, um in uns selbst und in der Gemeinschaft mit anderen Gottes Nähe z
 u spüren.\n\n✨ Lichter und Kerzen – Der Raum wird von vielen Lichtern und 
 Kerzen erleuchtet\, die eine friedliche und besinnliche Stimmung erzeugen.
 \n\n✨ Musik und Impulse – Schöne Lieder und kurze Impulse lassen uns den A
 bend in Gebet und Musik erleben.\n\nDie Nacht der Lichter ist eine wunders
 chöne Gelegenheit\, gemeinsam zur Ruhe zu kommen\, den Alltag hinter sich 
 zu lassen und in einer offenen und friedlichen Atmosphäre den eigenen Glau
 ben zu vertiefen.\n\nWir beginnen bereits um 19 Uhr mit dem Taizéfrühstück
  vor der Kirche. Das Gebet beginnt um 20 Uhr.\n\n✨ Seid dabei und lasst un
 s zusammen eine unvergessliche Nacht erleben!\nArt der Veranstaltung: Gott
 esdienste\nweitere Informationen: Veranstalter: Dekanatstelle Chemnitz\nBi
 stum Dresden-Meißen\, Gießerstr. 36\, 09130 Chemnitz\nE-Mail dekanatsjugen
 d-chemnitz@bddmei.de
DTSTART;TZID=Europe/Berlin:20251004T200000
DTEND;TZID=Europe/Berlin:20251004T210000
LOCATION:Chemnitz: St. Jakobikirche Chemnitz
SUMMARY:'Nacht der Lichter' Ökumenischer Taizégottesdienst
URL:https://kalender.evlks.de/veranstaltung_im_detail108460.html
END:VEVENT
END:VCALENDAR
