BEGIN:VCALENDAR
VERSION:2.0
PRODID:-//evangelische-termine.de//NONSGML kigkonsult.se iCalcreator 2.18//
CALSCALE:GREGORIAN
METHOD:PUBLISH
X-WR-CALNAME:iCal Evangelische-Termine 21.04.2026
X-WR-CALDESC:iCalender von Evangelische-Termine (21.04.2026)
X-WR-TIMEZONE:Europe/Berlin
X-MS-OLK-FORCEINSPECTOROPEN:TRUE
BEGIN:VTIMEZONE
TZID:Europe/Berlin
BEGIN:STANDARD
DTSTART:19701025T030000
TZOFFSETFROM:+0200
TZOFFSETTO:+0100
RRULE:FREQ=YEARLY;BYDAY=-1SU;BYMONTH=10
TZNAME:CET
END:STANDARD
BEGIN:DAYLIGHT
DTSTART:19700329T020000
TZOFFSETFROM:+0100
TZOFFSETTO:+0200
RRULE:FREQ=YEARLY;BYDAY=-1SU;BYMONTH=3
TZNAME:CEST
END:DAYLIGHT
END:VTIMEZONE
BEGIN:VEVENT
UID:20260420T200000-114376@evangelische-termine.de
DTSTAMP:20260421T123703Z
DESCRIPTION:\nOnline/Offline: Präsenz\nVeranstaltungsort: Nathanaelkirche -
  Begegnungskirche\n04177 Leipzig\nAusführliche Beschreibung: Mo- Fr jeweil
 s 20 Uhr in der Begegnungskirche\,\n\nDer Veranstaltungsplan ist hier zu f
 inden: https://www.nathanaelgemeinde.de/\nReferent/-innen: Pfr. i.R. Bernd
  Frauenlob\nInformationen / Anmeldung: ohne Anmeldung\nArt der Veranstaltu
 ng: Fortbildungen/Seminare/Vorträge
DTSTART;TZID=Europe/Berlin:20260420T200000
DTEND;TZID=Europe/Berlin:20260420T210000
LOCATION:Leipzig: Nathanaelkirche - Begegnungskirche
RRULE:FREQ=DAILY;UNTIL=20260424T235900Z;INTERVAL=1;WKST=SU
SUMMARY:Bibelwoche
URL:https://kalender.evlks.de/veranstaltung_im_detail114376.html
END:VEVENT
END:VCALENDAR
