BEGIN:VCALENDAR
VERSION:2.0
PRODID:-//evangelische-termine.de//NONSGML kigkonsult.se iCalcreator 2.18//
CALSCALE:GREGORIAN
METHOD:PUBLISH
X-WR-CALNAME:iCal Evangelische-Termine 22.04.2026
X-WR-CALDESC:iCalender von Evangelische-Termine (22.04.2026)
X-WR-TIMEZONE:Europe/Berlin
X-MS-OLK-FORCEINSPECTOROPEN:TRUE
BEGIN:VTIMEZONE
TZID:Europe/Berlin
BEGIN:STANDARD
DTSTART:19701025T030000
TZOFFSETFROM:+0200
TZOFFSETTO:+0100
RRULE:FREQ=YEARLY;BYDAY=-1SU;BYMONTH=10
TZNAME:CET
END:STANDARD
BEGIN:DAYLIGHT
DTSTART:19700329T020000
TZOFFSETFROM:+0100
TZOFFSETTO:+0200
RRULE:FREQ=YEARLY;BYDAY=-1SU;BYMONTH=3
TZNAME:CEST
END:DAYLIGHT
END:VTIMEZONE
BEGIN:VEVENT
UID:20260426T100000-115741@evangelische-termine.de
DTSTAMP:20260422T122333Z
DESCRIPTION:\nKurzbeschreibung: mit dem Saitenspielchor\nVeranstaltungsort:
  Kirche zu Erlbach\nPfarrweg\n09385 Lugau OT Erlbach-Kirchberg\nArt der Ve
 ranstaltung: Gottesdienste\nKindergottesdienst: mit Kindergottesdienst
DTSTART;TZID=Europe/Berlin:20260426T100000
DTEND;TZID=Europe/Berlin:20260426T110000
LOCATION:Lugau OT Erlbach-Kirchberg: Kirche zu Erlbach
SUMMARY:Musikalischer Gottesdienst :: mit dem Saitenspielchor
URL:https://kalender.evlks.de/veranstaltung_im_detail115741.html
END:VEVENT
END:VCALENDAR
