BEGIN:VCALENDAR
VERSION:2.0
PRODID:-//evangelische-termine.de//NONSGML kigkonsult.se iCalcreator 2.18//
CALSCALE:GREGORIAN
METHOD:PUBLISH
X-WR-CALNAME:iCal Evangelische-Termine 25.04.2026
X-WR-CALDESC:iCalender von Evangelische-Termine (25.04.2026)
X-WR-TIMEZONE:Europe/Berlin
X-MS-OLK-FORCEINSPECTOROPEN:TRUE
BEGIN:VTIMEZONE
TZID:Europe/Berlin
BEGIN:STANDARD
DTSTART:19701025T030000
TZOFFSETFROM:+0200
TZOFFSETTO:+0100
RRULE:FREQ=YEARLY;BYDAY=-1SU;BYMONTH=10
TZNAME:CET
END:STANDARD
BEGIN:DAYLIGHT
DTSTART:19700329T020000
TZOFFSETFROM:+0100
TZOFFSETTO:+0200
RRULE:FREQ=YEARLY;BYDAY=-1SU;BYMONTH=3
TZNAME:CEST
END:DAYLIGHT
END:VTIMEZONE
BEGIN:VEVENT
UID:20260529T153000-115755@evangelische-termine.de
DTSTAMP:20260425T200916Z
DESCRIPTION:\nOrt: Pfarrhaus Erlbach-Kirchberg\nPfarrweg 3\n09385 Lugau OT 
 Erlbach-Kirchberg\nArt der Veranstaltung: Gruppen/Kreise\nInternetadresse 
 (eigene Infos im Internet): https://www.evangelisationsteam.de/ueber-uns/e
 vangelisationsteam/alexander-hellmich/\nAnsprechperson: Karina Roßbach kar
 ina.rossbach@evlks.de\nGemeindepädagogin (Erlbach-Kirchberg-Ursprung und L
 eukersdorf)
DTSTART;TZID=Europe/Berlin:20260529T153000
DTEND;TZID=Europe/Berlin:20260529T183000
LOCATION:Lugau OT Erlbach-Kirchberg: Pfarrhaus Erlbach-Kirchberg
SUMMARY:Bauen mit dem XXL Metallbaukasten
URL:https://kalender.evlks.de/veranstaltung_im_detail115755.html
END:VEVENT
END:VCALENDAR
