BEGIN:VCALENDAR
VERSION:2.0
PRODID:-//evangelische-termine.de//NONSGML kigkonsult.se iCalcreator 2.18//
CALSCALE:GREGORIAN
METHOD:PUBLISH
X-WR-CALNAME:iCal Evangelische-Termine 21.04.2026
X-WR-CALDESC:iCalender von Evangelische-Termine (21.04.2026)
X-WR-TIMEZONE:Europe/Berlin
X-MS-OLK-FORCEINSPECTOROPEN:TRUE
BEGIN:VTIMEZONE
TZID:Europe/Berlin
BEGIN:STANDARD
DTSTART:19701025T030000
TZOFFSETFROM:+0200
TZOFFSETTO:+0100
RRULE:FREQ=YEARLY;BYDAY=-1SU;BYMONTH=10
TZNAME:CET
END:STANDARD
BEGIN:DAYLIGHT
DTSTART:19700329T020000
TZOFFSETFROM:+0100
TZOFFSETTO:+0200
RRULE:FREQ=YEARLY;BYDAY=-1SU;BYMONTH=3
TZNAME:CEST
END:DAYLIGHT
END:VTIMEZONE
BEGIN:VEVENT
UID:20260403T170000-118110@evangelische-termine.de
DTSTAMP:20260421T090833Z
DESCRIPTION:\nUntertitel: Aufführung am Karfreitag in der Nikolaikirche\nVe
 ranstaltungsort: Nikolaikirche Leipzig\nNikolaikirchhof\n04109 Leipzig\nmu
 sikalische Kategorie: Kantate/Oratorium/Passion \nInterpreten: Taryn Knerr
  - Sopran\, Britta Schwarz - Alt\, Christopher Renz - Evangelist\,  Fridol
 in Wissemann - Arien\, Philipp Goldmann - Bass (Arien)\, Dirk Schmidt - Ba
 ss (Vox Christi)\, BachChor an der Nikolaikirche\, Kinder- & Mädchenchor d
 er Schola Cantorum (Ltg. Bernhard Steiner)\, Festivalorchester Leipzig\, G
 esamtleitung - Nikolaikantor Markus Kaufmann\nAufgeführte Werke: Johann Se
 bastian Bach: MATTHÄUSPASSION\nEintritt: 35€ Vollzahler\, 20€ Ermäßigt\nIn
 ternetadresse: https://nikolaikirche-leipzig.reservix.de/events
DTSTART;TZID=Europe/Berlin:20260403T170000
DTEND;TZID=Europe/Berlin:20260403T180000
LOCATION:Leipzig: Nikolaikirche Leipzig
SUMMARY:Johann Sebastian Bach: MATTHÄUSPASSION
URL:https://kalender.evlks.de/veranstaltung_im_detail118110.html
END:VEVENT
END:VCALENDAR
