BEGIN:VCALENDAR
VERSION:2.0
PRODID:-//evangelische-termine.de//NONSGML kigkonsult.se iCalcreator 2.18//
CALSCALE:GREGORIAN
METHOD:PUBLISH
X-WR-CALNAME:iCal Evangelische-Termine 23.04.2026
X-WR-CALDESC:iCalender von Evangelische-Termine (23.04.2026)
X-WR-TIMEZONE:Europe/Berlin
X-MS-OLK-FORCEINSPECTOROPEN:TRUE
BEGIN:VTIMEZONE
TZID:Europe/Berlin
BEGIN:STANDARD
DTSTART:19701025T030000
TZOFFSETFROM:+0200
TZOFFSETTO:+0100
RRULE:FREQ=YEARLY;BYDAY=-1SU;BYMONTH=10
TZNAME:CET
END:STANDARD
BEGIN:DAYLIGHT
DTSTART:19700329T020000
TZOFFSETFROM:+0100
TZOFFSETTO:+0200
RRULE:FREQ=YEARLY;BYDAY=-1SU;BYMONTH=3
TZNAME:CEST
END:DAYLIGHT
END:VTIMEZONE
BEGIN:VEVENT
UID:20260426T150000-121254@evangelische-termine.de
DTSTAMP:20260423T013459Z
DESCRIPTION:\nKurzbeschreibung: Taborkirche Leipzig\nVeranstaltungsort: Tab
 orkirche\nWindorfer Straße 49\n04229 Leipzig\nAusführliche Beschreibung: G
 lauben mit Gebärdensprache: mit Gott und miteinander unbehindert Gemeinsch
 aft pflegen\, beten & feiern. Herzlich willkommen!\nArt der Veranstaltung:
  Gottesdienste\nGottesdienstleitende: Pfr. Andreas Konrath andreas.konrath
 @evlks.de\nTelefax:	0341 4251673\nTelefon:	017621802783\nInternetadresse: ht
 tps://gehoerlosenseelsorge-sachsen.de\nAngaben zur Barrierefreiheit: Veran
 staltung in Gebärdensprache bzw. Gebärdendolmetscher ist anwesend\nFlyer o
 . Broschüre zum Herunterladen: 
DTSTART;TZID=Europe/Berlin:20260426T150000
DTEND;TZID=Europe/Berlin:20260426T160000
LOCATION:Leipzig: Taborkirche
SUMMARY:Gottesdienst mit Gebärdensprache
URL:https://kalender.evlks.de/veranstaltung_im_detail121254.html
END:VEVENT
END:VCALENDAR
