BEGIN:VCALENDAR
VERSION:2.0
PRODID:-//evangelische-termine.de//NONSGML kigkonsult.se iCalcreator 2.18//
CALSCALE:GREGORIAN
METHOD:PUBLISH
X-WR-CALNAME:iCal Evangelische-Termine 22.04.2026
X-WR-CALDESC:iCalender von Evangelische-Termine (22.04.2026)
X-WR-TIMEZONE:Europe/Berlin
X-MS-OLK-FORCEINSPECTOROPEN:TRUE
BEGIN:VTIMEZONE
TZID:Europe/Berlin
BEGIN:STANDARD
DTSTART:19701025T030000
TZOFFSETFROM:+0200
TZOFFSETTO:+0100
RRULE:FREQ=YEARLY;BYDAY=-1SU;BYMONTH=10
TZNAME:CET
END:STANDARD
BEGIN:DAYLIGHT
DTSTART:19700329T020000
TZOFFSETFROM:+0100
TZOFFSETTO:+0200
RRULE:FREQ=YEARLY;BYDAY=-1SU;BYMONTH=3
TZNAME:CEST
END:DAYLIGHT
END:VTIMEZONE
BEGIN:VEVENT
UID:20261013T000000-121546@evangelische-termine.de
DTSTAMP:20260422T205237Z
DESCRIPTION:\nReiseort: Strobelmühle\nMarienberger Straße 36\n09509 Pockau-
 Lengefeld\nKurzbeschreibung / Untertitel: Du willst Verantwortung übernehm
 en und Gruppen leiten?\nAusführliche Beschreibung: Dann hol dir deine Juge
 ndleiter-Card! In dieser intensiven\nWoche lernst du alles\, was du brauch
 st: Gruppenleitung\,\nSpielepädagogik\, Erste Hilfe\, Rechtliches – und wi
 e du Glauben\nin Jugendarbeit lebendig machst. Mit Spaß\, Tiefgang und ein
 er\nstarken Gemeinschaft.\n\nAnmeldeschluss: 27.05.2026\nLeitung: Tobias S
 eidel\, Michael Friedemann\, Lene Vogel\nPreis: 100\,00 €\nAlter: ab 16 Ja
 hren\n\n>> zur Anmeldung: https://www.evjuc.de/juleica\nZur Anmeldung: htt
 ps://www.evjuc.de/juleica
DTSTART;VALUE=DATE:20261013
DTEND;VALUE=DATE:20261018
LOCATION:Pockau-Lengefeld: Strobelmühle
SUMMARY:Jugendleiter-Card in der Strobelmühle Pockau 2026 :: Du willst Vera
 ntwortung übernehmen und Gruppen leiten?
URL:https://kalender.evlks.de/veranstaltung_im_detail121546.html
END:VEVENT
END:VCALENDAR
