BEGIN:VCALENDAR
VERSION:2.0
PRODID:-//evangelische-termine.de//NONSGML kigkonsult.se iCalcreator 2.18//
CALSCALE:GREGORIAN
METHOD:PUBLISH
X-WR-CALNAME:iCal Evangelische-Termine 22.04.2026
X-WR-CALDESC:iCalender von Evangelische-Termine (22.04.2026)
X-WR-TIMEZONE:Europe/Berlin
X-MS-OLK-FORCEINSPECTOROPEN:TRUE
BEGIN:VTIMEZONE
TZID:Europe/Berlin
BEGIN:STANDARD
DTSTART:19701025T030000
TZOFFSETFROM:+0200
TZOFFSETTO:+0100
RRULE:FREQ=YEARLY;BYDAY=-1SU;BYMONTH=10
TZNAME:CET
END:STANDARD
BEGIN:DAYLIGHT
DTSTART:19700329T020000
TZOFFSETFROM:+0100
TZOFFSETTO:+0200
RRULE:FREQ=YEARLY;BYDAY=-1SU;BYMONTH=3
TZNAME:CEST
END:DAYLIGHT
END:VTIMEZONE
BEGIN:VEVENT
UID:20260422T143000-122266@evangelische-termine.de
DTSTAMP:20260422T122508Z
DESCRIPTION:\nOrt: Gemeindehaus Ursprung\nUntere Dorfstraße 3\n09385 Lugau 
 OT Ursprung\nAusführliche Beschreibung: (außer an kirchlichen und staatlic
 hen Feiertagen)\nArt der Veranstaltung: Sonstiges\nE-Mail: kg.erlbach_kirc
 hberg@evlks.de\nAnsprechperson: Judith Käferstein judith.kaeferstein@evlks
 .de\nVerwaltungsangestellte in Erlbach-Kirchberg-Ursprung und Leukersdorf
DTSTART;TZID=Europe/Berlin:20260422T143000
DTEND;TZID=Europe/Berlin:20260422T173000
LOCATION:Lugau OT Ursprung: Gemeindehaus Ursprung
SUMMARY:Öffnungszeit Pfarramt und Friedhofsverwaltung
URL:https://kalender.evlks.de/veranstaltung_im_detail122266.html
END:VEVENT
END:VCALENDAR
