BEGIN:VCALENDAR
VERSION:2.0
PRODID:-//evangelische-termine.de//NONSGML kigkonsult.se iCalcreator 2.18//
CALSCALE:GREGORIAN
METHOD:PUBLISH
X-WR-CALNAME:iCal Evangelische-Termine 21.04.2026
X-WR-CALDESC:iCalender von Evangelische-Termine (21.04.2026)
X-WR-TIMEZONE:Europe/Berlin
X-MS-OLK-FORCEINSPECTOROPEN:TRUE
BEGIN:VTIMEZONE
TZID:Europe/Berlin
BEGIN:STANDARD
DTSTART:19701025T030000
TZOFFSETFROM:+0200
TZOFFSETTO:+0100
RRULE:FREQ=YEARLY;BYDAY=-1SU;BYMONTH=10
TZNAME:CET
END:STANDARD
BEGIN:DAYLIGHT
DTSTART:19700329T020000
TZOFFSETFROM:+0100
TZOFFSETTO:+0200
RRULE:FREQ=YEARLY;BYDAY=-1SU;BYMONTH=3
TZNAME:CEST
END:DAYLIGHT
END:VTIMEZONE
BEGIN:VEVENT
UID:20260506T100000-122883@evangelische-termine.de
DTSTAMP:20260421T091941Z
DESCRIPTION:\nKurzbeschreibung: Identitätsstörungen\, Minderwertigkeitsthem
 en und Ausgrenzungserfahrungen in den Hilfen zur Erziehung\nOrt: *) siehe 
 Beschreibung\n Sachsen\nAusführliche Beschreibung: REIHE: Hilfen zur Erzie
 hung zukunftsfähig entwickeln\n\nJunge Menschen\, die Hilfen zur Erziehung
  erhalten\, müssen schnell erfahren\, dass sie Teil einer Randgruppe gewor
 den sind. Verstärkend kommt hinzu\, dass auch das System der Hilfen zur Er
 ziehung selbst Ausgrenzungserfahrungen mit sich bringt. Negative Selbstwer
 tgefühle und auffälliges Verhalten bei jungen Menschen können die Folge se
 in. Junge Menschen sind vielfältig\, aber die Hilfen zur Erziehung sind es
  nicht. Die Veranstaltung möchte Wege diskutieren\, wie junge Menschen in 
 Erziehungs-Maßnahmen bestärkt werden können\, beginnend im Wohngruppenallt
 ag über die Qualität der Hilfeplangespräche bis hin zum Ansatz der bedingu
 ngslosen Jugendhilfe. \n\nORT: Leipzig\nKOOPERATIONn: Kinder- und Jugendhi
 lferechtsverein e.V.\, Dresden | Verein zur Förderung von Ausbildung\, Bes
 chäftigung\, Beratung und Betreuung Jugendlicher und Erwachsener e. V. (FA
 B e.V.)\, Crimmitschau\nLEITUNG: Christian Kurzke\nArt der Veranstaltung: 
 Sonstiges\nE-Mail: akademie@evlks.de\nAnsprechperson: Sandra Kirsten sandr
 a.kirsten@evlks.de\nWeitere Informationen: Tagungsnummer: 26-115
DTSTART;TZID=Europe/Berlin:20260506T100000
DTEND;TZID=Europe/Berlin:20260506T160000
LOCATION:Sachsen: *) siehe Beschreibung
SUMMARY:Vielfalt in Wohngruppen – ein Auftrag für die Stationäre Jugendhilf
 e :: Identitätsstörungen\, Minderwertigkeitsthemen und Ausgrenzungserfahru
 ngen in den Hilfen zur Erziehung 
URL:https://kalender.evlks.de/veranstaltung_im_detail122883.html
END:VEVENT
END:VCALENDAR
