BEGIN:VCALENDAR
VERSION:2.0
PRODID:-//evangelische-termine.de//NONSGML kigkonsult.se iCalcreator 2.18//
CALSCALE:GREGORIAN
METHOD:PUBLISH
X-WR-CALNAME:iCal Evangelische-Termine 21.04.2026
X-WR-CALDESC:iCalender von Evangelische-Termine (21.04.2026)
X-WR-TIMEZONE:Europe/Berlin
X-MS-OLK-FORCEINSPECTOROPEN:TRUE
BEGIN:VTIMEZONE
TZID:Europe/Berlin
BEGIN:STANDARD
DTSTART:19701025T030000
TZOFFSETFROM:+0200
TZOFFSETTO:+0100
RRULE:FREQ=YEARLY;BYDAY=-1SU;BYMONTH=10
TZNAME:CET
END:STANDARD
BEGIN:DAYLIGHT
DTSTART:19700329T020000
TZOFFSETFROM:+0100
TZOFFSETTO:+0200
RRULE:FREQ=YEARLY;BYDAY=-1SU;BYMONTH=3
TZNAME:CEST
END:DAYLIGHT
END:VTIMEZONE
BEGIN:VEVENT
UID:20260507T100000-122919@evangelische-termine.de
DTSTAMP:20260421T075118Z
DESCRIPTION:\nKurzbeschreibung: Jugendpolitik zwischen Europa und dem Ratha
 us vor Ort\nAusführliche Beschreibung: Der Ruf der sächsischen Jugendpolit
 ik ist nicht der beste. Hinzu kommen insbesondere in Ostdeutschland EU-ske
 ptische Haltungen\, auch bei jungen Menschen. Zugleich müssen\, sowohl in 
 der konkreten Kommune als auch in der EU\, Wirksamkeiten der jugendpolitis
 chen Entscheidungen für junge Menschen erkennbar sein\, auch um Vertrauen 
 in die politischen Abläufe abzusichern. Die Herausforderungen für eine Par
 tizipation sind in der Folge groß\, politische Akteure und Fachkräfte der 
 Jugendarbeit stehen vor einem immensen fachlichen Spagat. Wir sprechen drü
 ber\, wie Synergien geschaffen und Reibungspunkte abgebaut werden können\,
  dazu sprechen wir u.a. mit dem Chef der Staatskanzlei und Staatssekretär 
 für Bundes- und Europaangelegenheiten\, Dr. Andreas Handschuh (angefragt).
 \n\nMITWIRKENDE: Dr. Andreas Handschuh\, Chef der Staatskanzlei und Staats
 sekretär für Bundes- und Europaangelegenheiten (angefragt) u.a.\nKOOPERATI
 ON: Uferlos – Fachstelle für Internationale Jugendarbeit (IJA) im Freistaa
 t Sachsen\nLEITUNG: Christian Kurzke\nArt der Veranstaltung: Sonstiges\nE-
 Mail: akademie@evlks.de\nAnsprechperson: Sandra Kirsten sandra.kirsten@evl
 ks.de\nMitwirkende: Dr. Andreas Handschuh\, Chef der Staatskanzlei und Sta
 atssekretär für Bundes- und Europaangelegenheiten (angefragt)\nWeitere Inf
 ormationen: Tagungsnummer: 26-115
DTSTART;TZID=Europe/Berlin:20260507T100000
DTEND;TZID=Europe/Berlin:20260507T120000
LOCATION:Sachsen: Online
SUMMARY:Von Bautzen bis Brüssel? :: Jugendpolitik zwischen Europa und dem R
 athaus vor Ort
URL:https://kalender.evlks.de/veranstaltung_im_detail122919.html
END:VEVENT
END:VCALENDAR
