BEGIN:VCALENDAR
VERSION:2.0
PRODID:-//evangelische-termine.de//NONSGML kigkonsult.se iCalcreator 2.18//
CALSCALE:GREGORIAN
METHOD:PUBLISH
X-WR-CALNAME:iCal Evangelische-Termine 19.04.2026
X-WR-CALDESC:iCalender von Evangelische-Termine (19.04.2026)
X-WR-TIMEZONE:Europe/Berlin
X-MS-OLK-FORCEINSPECTOROPEN:TRUE
BEGIN:VTIMEZONE
TZID:Europe/Berlin
BEGIN:STANDARD
DTSTART:19701025T030000
TZOFFSETFROM:+0200
TZOFFSETTO:+0100
RRULE:FREQ=YEARLY;BYDAY=-1SU;BYMONTH=10
TZNAME:CET
END:STANDARD
BEGIN:DAYLIGHT
DTSTART:19700329T020000
TZOFFSETFROM:+0100
TZOFFSETTO:+0200
RRULE:FREQ=YEARLY;BYDAY=-1SU;BYMONTH=3
TZNAME:CEST
END:DAYLIGHT
END:VTIMEZONE
BEGIN:VEVENT
UID:20260519T180000-122920@evangelische-termine.de
DTSTAMP:20260419T205829Z
DESCRIPTION:\nKurzbeschreibung: Verfassungsdialog über die Jugend und ihre 
 Rechte\nOrt: Dreikönigskirche / Haus der Kirche Dresden Neustadt\nHauptstr
 aße 23\n01097 Dresden\nAusführliche Beschreibung: Nach Artikel 101 der Säc
 hsischen Verfassung wird die Jugend „zur Ehrfurcht vor allem Lebendigen […
 ] und politischem Verantwortungsbewusstsein“ angehalten. Wie aber verhält 
 sich die konkrete Rechtslage und Rechtsprechung für junge Menschen? Wofür 
 sind sie verantwortlich und was können sie im Rechtstaat beanspruchen? Übe
 r den Wandel des Rechtsverständnisses im Blick auf junge Menschen diskutie
 ren Experten und Publikum. \n\nIMPULSE: Prof. Dr. Elisa Hoven (Professorin
  für Strafrecht\, angefragt) und weitere Verfassungsrichter\nLEITUNG: Chri
 stian Kurzke\, Dr. Roland Löffler\, Dr. Joachim Amm\nKOOPERATION: Sächsisc
 he Landeszentrale für politische Bildung\nArt der Veranstaltung: Sonstiges
 \nE-Mail: akademie@evlks.de\nAnsprechperson: Sandra Kirsten sandra.kirsten
 @evlks.de\nMitwirkende: Prof. Dr. Elisa Hoven (Professorin für Strafrecht\
 , angefragt) und weitere Verfassungsrichter\; Dr. Roland Löffler und Dr. J
 oachim Amm (Sächsische Landeszetrale für politische Bildung)\nWeitere Info
 rmationen: Tagungsnummer: 26-405
DTSTART;TZID=Europe/Berlin:20260519T180000
DTEND;TZID=Europe/Berlin:20260519T203000
LOCATION:Dresden: Dreikönigskirche / Haus der Kirche Dresden Neustadt
SUMMARY:Jugendschutz\, Jugendstrafrecht und das Wahlalter für junge Mensche
 n :: Verfassungsdialog über die Jugend und ihre Rechte
URL:https://kalender.evlks.de/veranstaltung_im_detail122920.html
END:VEVENT
END:VCALENDAR
