BEGIN:VCALENDAR
VERSION:2.0
PRODID:-//evangelische-termine.de//NONSGML kigkonsult.se iCalcreator 2.18//
CALSCALE:GREGORIAN
METHOD:PUBLISH
X-WR-CALNAME:iCal Evangelische-Termine 19.04.2026
X-WR-CALDESC:iCalender von Evangelische-Termine (19.04.2026)
X-WR-TIMEZONE:Europe/Berlin
X-MS-OLK-FORCEINSPECTOROPEN:TRUE
BEGIN:VTIMEZONE
TZID:Europe/Berlin
BEGIN:STANDARD
DTSTART:19701025T030000
TZOFFSETFROM:+0200
TZOFFSETTO:+0100
RRULE:FREQ=YEARLY;BYDAY=-1SU;BYMONTH=10
TZNAME:CET
END:STANDARD
BEGIN:DAYLIGHT
DTSTART:19700329T020000
TZOFFSETFROM:+0100
TZOFFSETTO:+0200
RRULE:FREQ=YEARLY;BYDAY=-1SU;BYMONTH=3
TZNAME:CEST
END:DAYLIGHT
END:VTIMEZONE
BEGIN:VEVENT
UID:20260520T170000-122922@evangelische-termine.de
DTSTAMP:20260419T205910Z
DESCRIPTION:\nKurzbeschreibung: 8. PaulinerFORUM Leipzig mit Prof. Dr. Andr
 eas Reckwitz\nOrt: Universitätskirche Leipzig\nNeues Augusteum\n04109 Leip
 zig\nAusführliche Beschreibung: Die Moderne stand unter dem Versprechen vo
 n Fortschritt und Freiheitsgewinn\, ist aber paradoxerweise auch eine Verl
 ustgeschichte. Andreas Reckwitz zeigt\, inwiefern gerade der moderne Mensc
 h unter Verlusterfahrungen leidet und wie das viele Probleme unserer Gesel
 lschaft anwachsen oder gar erst entstehen lässt. Gleichzeitig führt er vor
  Augen\, wie Religion als eine spezifische Weise der Verlustbewältigung be
 schrieben werden kann.\n\nDas PaulinerFORUM ist eine an die Universitätski
 rche St. Pauli zu Leipzig gebundene Diskursplattform\, die aktuelle Debatt
 en um Religion\, Kultur und Politik aufgreift. Das Forum wird getragen von
  der Universität Leipzig. Unterstützt wird es von der Stiftung Universität
 skirche St. Pauli zu Leipzig\, der Evangelischen Verlagsanstalt und der Ev
 angelischen Akademie Sachsen.\nIn seiner Doppelfunktion als Aula und Kirch
 e versinnbildlicht das Paulinum den Diskurs zwischen Wissenschaft und Reli
 gion. Es richtet den Fokus auf die Deutung der Vergangenheit und die Gesta
 ltung von Gegenwart und Zukunft. Damit steht es in der großen Leipziger Tr
 adition der Friedlichen Revolution und deren Eintreten für Freiheit und De
 mokratie.\n\nDer Eintritt zum PaulinerFORUM ist frei.\n\nMITWIRKENDE: \nVO
 RTRAG: Prof. Andreas Reckwitz\, Soziologe und Kulturwissenschaftler an der
  Humboldt-Universität zu Berlin\nRESPONDENT: Bischof Dr. Christian Stäblei
 n\, Evangelische Kirche Berlin-Brandenburg-schlesische Oberlausitz\nBEGRÜS
 SUNG: Prof. Dr. Roderich Barth\nMODERATION UND PODIUM: Dr. Annette Weidhas
 \nVERANSTALTUNGSLEITUNG: Christian Kurzke\n\nWeitere Informationen entnehm
 en Sie bitte dem FLYER unten.\nArt der Veranstaltung: Fortbildungen/Semina
 re/Vorträge\nE-Mail: akademie@evlks.de\nMitwirkende: Prof. Andreas Reckwit
 z\, Bischof Dr. Christian Stäblein\, Prof. Dr. Alexander Deeg\,  Dr. Annet
 te Weidhas\nWeitere Informationen: Tagungsnummer: 26-404\nFlyer o. Broschü
 re zum Herunterladen: https://ea-sachsen.de/wp-content/uploads/2026/03/Pau
 linerFORUM_Einladung2026__lay3.pdf
DTSTART;TZID=Europe/Berlin:20260520T170000
DTEND;TZID=Europe/Berlin:20260520T180000
LOCATION:Leipzig: Universitätskirche Leipzig
SUMMARY:Verlust. Ein Grundproblem der Moderne :: 8. PaulinerFORUM Leipzig m
 it Prof. Dr. Andreas Reckwitz
URL:https://kalender.evlks.de/veranstaltung_im_detail122922.html
END:VEVENT
END:VCALENDAR
