BEGIN:VCALENDAR
VERSION:2.0
PRODID:-//evangelische-termine.de//NONSGML kigkonsult.se iCalcreator 2.18//
CALSCALE:GREGORIAN
METHOD:PUBLISH
X-WR-CALNAME:iCal Evangelische-Termine 19.04.2026
X-WR-CALDESC:iCalender von Evangelische-Termine (19.04.2026)
X-WR-TIMEZONE:Europe/Berlin
X-MS-OLK-FORCEINSPECTOROPEN:TRUE
BEGIN:VTIMEZONE
TZID:Europe/Berlin
BEGIN:STANDARD
DTSTART:19701025T030000
TZOFFSETFROM:+0200
TZOFFSETTO:+0100
RRULE:FREQ=YEARLY;BYDAY=-1SU;BYMONTH=10
TZNAME:CET
END:STANDARD
BEGIN:DAYLIGHT
DTSTART:19700329T020000
TZOFFSETFROM:+0100
TZOFFSETTO:+0200
RRULE:FREQ=YEARLY;BYDAY=-1SU;BYMONTH=3
TZNAME:CEST
END:DAYLIGHT
END:VTIMEZONE
BEGIN:VEVENT
UID:20260521T093000-122924@evangelische-termine.de
DTSTAMP:20260419T205951Z
DESCRIPTION:\nKurzbeschreibung: Impulse und Perspektiven aus der Fachlandsc
 haft und Wissensch\nOrt: *) siehe Beschreibung\n Sachsen\nAusführliche Bes
 chreibung: Das Miteinander in einer Gesellschaft ist auch geprägt von der 
 Perspektive\, wie gerecht es zugeht. Die Hinweise aus Fachverbänden und de
 r Wissenschaft\, dass soziale Gerechtigkeit in Sachsen nicht erreicht sei\
 , lässt aufhorchen. Welche Visionen hin zu einem sozial gerechten Sachsen 
 gibt es für den Bereich der Pflege\, der Generationengerechtigkeit\, der I
 nfrastruktur\, der Gesundheitsvorsorge\, der Armutsbekämpfung etc.? Diese 
 Veranstaltung will Perspektiven zusammentragen und nachhaltig bearbeiten. 
 \n\nORT: Dresden\nLEITUNG: Christian Kurzke\nE-Mail: akademie@evlks.de\nAn
 sprechperson: Sandra Kirsten sandra.kirsten@evlks.de\nWeitere Informatione
 n: Tagungsnummer: 26-107
DTSTART;TZID=Europe/Berlin:20260521T093000
DTEND;TZID=Europe/Berlin:20260521T163000
LOCATION:Sachsen: *) siehe Beschreibung
SUMMARY:Visionen für ein sozial gerechtes Sachsen :: Impulse und Perspektiv
 en aus der Fachlandschaft und Wissensch
URL:https://kalender.evlks.de/veranstaltung_im_detail122924.html
END:VEVENT
END:VCALENDAR
