BEGIN:VCALENDAR
VERSION:2.0
PRODID:-//evangelische-termine.de//NONSGML kigkonsult.se iCalcreator 2.18//
CALSCALE:GREGORIAN
METHOD:PUBLISH
X-WR-CALNAME:iCal Evangelische-Termine 21.04.2026
X-WR-CALDESC:iCalender von Evangelische-Termine (21.04.2026)
X-WR-TIMEZONE:Europe/Berlin
X-MS-OLK-FORCEINSPECTOROPEN:TRUE
BEGIN:VTIMEZONE
TZID:Europe/Berlin
BEGIN:STANDARD
DTSTART:19701025T030000
TZOFFSETFROM:+0200
TZOFFSETTO:+0100
RRULE:FREQ=YEARLY;BYDAY=-1SU;BYMONTH=10
TZNAME:CET
END:STANDARD
BEGIN:DAYLIGHT
DTSTART:19700329T020000
TZOFFSETFROM:+0100
TZOFFSETTO:+0200
RRULE:FREQ=YEARLY;BYDAY=-1SU;BYMONTH=3
TZNAME:CEST
END:DAYLIGHT
END:VTIMEZONE
BEGIN:VEVENT
UID:20260425T000000-122928@evangelische-termine.de
DTSTAMP:20260421T000739Z
DESCRIPTION:\nVeranstaltungsort: Ev.-Luth. Begegnungsstätte Weißer Hirsch\n
 Heideflügel 2\n01324 Dresden\nWebadresse: http://www.spm-ev.de\nAusführlic
 he Beschreibung: Wir freuen uns\, mit Cornelius Altmann einen Profi an der
  Hand zu haben\, der mit der Posaunenchorarbeit sehr gut vertraut ist und 
 uns viele nützliche Tipps geben wird.\n\nCornelius Altmann ist 1. Pauker i
 m Leipziger Symphonieorchester und als Paukenbauer und\n-restaurator der i
 deale Ansprechpartner für alle Fragen rund um die Pauke.\n\nWer ein bissch
 en mehr über seine Tätigkleit erfahren möchte\, kann gern hier reinschauen
 : \nhttps://www.mdr.de/video/mdr-videos/c/video-877194.html\n\nWer kann\, 
 bringe bitte selbst Pauken mit.\nZielgruppe: Ein Seminar für alle\, die im
  Posaunenchor gelegentlich die Pauken spielen oder es lernen wollen.\nVera
 nstalter: Sächsische Posaunenmission e.V.\nKontakt: Geschäftsstelle der Sä
 chsische Posaunenmission e.V.\nKäthe-Kollwitz-Ufer 97\n01309 Dresden\nTel:
  0351 318644 \nMail: posaunenmission@spm-ev.de\nLeitende / Mitwirkende: Co
 rnelius Altmann\, 1. Pauker im Leipziger Symphonieorchester\nLPW Tilman Pe
 ter\nAnmeldungsadresse bzw. Anmeldelink: https://spm-ev.de/terminkalender/
 eventdetail/948/-/paukenseminar-mit-cornelius-altmann
DTSTART;VALUE=DATE:20260425
DTEND;VALUE=DATE:20260426
LOCATION:Dresden: Ev.-Luth. Begegnungsstätte Weißer Hirsch
SUMMARY:Seminar für Pauken :: Ein Seminar für alle\, die im Posaunenchor ge
 legentlich die Pauken spielen oder es lernen wollen.
URL:https://kalender.evlks.de/veranstaltung_im_detail122928.html
END:VEVENT
END:VCALENDAR
