BEGIN:VCALENDAR
VERSION:2.0
PRODID:-//evangelische-termine.de//NONSGML kigkonsult.se iCalcreator 2.18//
CALSCALE:GREGORIAN
METHOD:PUBLISH
X-WR-CALNAME:iCal Evangelische-Termine 22.04.2026
X-WR-CALDESC:iCalender von Evangelische-Termine (22.04.2026)
X-WR-TIMEZONE:Europe/Berlin
X-MS-OLK-FORCEINSPECTOROPEN:TRUE
BEGIN:VTIMEZONE
TZID:Europe/Berlin
BEGIN:STANDARD
DTSTART:19701025T030000
TZOFFSETFROM:+0200
TZOFFSETTO:+0100
RRULE:FREQ=YEARLY;BYDAY=-1SU;BYMONTH=10
TZNAME:CET
END:STANDARD
BEGIN:DAYLIGHT
DTSTART:19700329T020000
TZOFFSETFROM:+0100
TZOFFSETTO:+0200
RRULE:FREQ=YEARLY;BYDAY=-1SU;BYMONTH=3
TZNAME:CEST
END:DAYLIGHT
END:VTIMEZONE
BEGIN:VEVENT
UID:20261012T000000-122957@evangelische-termine.de
DTSTAMP:20260422T204443Z
DESCRIPTION:\nVeranstaltungsort: Windmühle Seifhennersdorf\n Seifhennersdor
 f\nWebadresse: http://www.spm-ev.de\nAusführliche Beschreibung: Untergebra
 cht sind wir in der der Begegnungsstätte „Windmühle“ in Seifhennersdorf. I
 n mehreren Gruppen wollen wir an der Blastechnik feilen\, Bläsermusik aus 
 verschiedenen Epochen erarbeiten und in einer gemeinsam gestalteten Abschl
 ussmusik zu Gehör bringen. Natürlich wird auch die Freizeitgestaltung nich
 t zu kurz kommen.\nZielgruppe: für Kinder ab 10 Jahren und Jugendliche\nVe
 ranstalter: Sächsische Posaunenmission e.V.\nKontakt: Geschäftsstelle der 
 Sächsische Posaunenmission e.V.\nKäthe-Kollwitz-Ufer 97\n01309 Dresden\nTe
 l: 0351 318644 \nMail: posaunenmission@spm-ev.de\nLeitende / Mitwirkende: 
 LPW Tilman Peter\, LPW Ulrich Meier & Team\nAnmeldungsadresse bzw. Anmelde
 link: https://www.spm-ev.de/terminkalender/eventdetail/761/-/blaeserlehrga
 ng-fuer-kinder-und-jugendliche
DTSTART;VALUE=DATE:20261012
DTEND;VALUE=DATE:20261017
LOCATION:Seifhennersdorf: Windmühle Seifhennersdorf
SUMMARY:Jungbläserlehrgang für Kinder ab 10  Jahren und Jugendliche
URL:https://kalender.evlks.de/veranstaltung_im_detail122957.html
END:VEVENT
END:VCALENDAR
