BEGIN:VCALENDAR
VERSION:2.0
PRODID:-//evangelische-termine.de//NONSGML kigkonsult.se iCalcreator 2.18//
CALSCALE:GREGORIAN
METHOD:PUBLISH
X-WR-CALNAME:iCal Evangelische-Termine 25.04.2026
X-WR-CALDESC:iCalender von Evangelische-Termine (25.04.2026)
X-WR-TIMEZONE:Europe/Berlin
X-MS-OLK-FORCEINSPECTOROPEN:TRUE
BEGIN:VTIMEZONE
TZID:Europe/Berlin
BEGIN:STANDARD
DTSTART:19701025T030000
TZOFFSETFROM:+0200
TZOFFSETTO:+0100
RRULE:FREQ=YEARLY;BYDAY=-1SU;BYMONTH=10
TZNAME:CET
END:STANDARD
BEGIN:DAYLIGHT
DTSTART:19700329T020000
TZOFFSETFROM:+0100
TZOFFSETTO:+0200
RRULE:FREQ=YEARLY;BYDAY=-1SU;BYMONTH=3
TZNAME:CEST
END:DAYLIGHT
END:VTIMEZONE
BEGIN:VEVENT
UID:20261023T000000-122958@evangelische-termine.de
DTSTAMP:20260425T014325Z
DESCRIPTION:\nVeranstaltungsort: Heimvolkshochschule Kohren-Sahlis\nPestalo
 zzistraße 3\n04654 Kohren-Sahlis\nWebadresse: https://www.spm-ev.de\nAusfü
 hrliche Beschreibung: Eingeladen sind alle BläserInnen des „tiefen Blechs“
 \, die sich bläserisch weiterbilden möchten. Gemeinsam wollen wir neue Lit
 eratur für tiefe Stimmen kennenlernen. Im Einzelunterricht besteht die Gel
 egenheit mit Spezialisten Fragen zur Blastechnik\, zum Mundstück\, zur Atm
 ung oder zum Instrument zu besprechen.\nVeranstalter: Sächsische Posaunenm
 ission e.V.\nKontakt: Geschäftsstelle der Sächsische Posaunenmission e.V.
 \nKäthe-Kollwitz-Ufer 97\n01309 Dresden\nTel: 0351 318644 \nMail: posaunen
 mission@spm-ev.de\nLeitende / Mitwirkende: mit LPW Tommy Schab\, LPW Ulric
 h Meier\nAnmeldungsadresse bzw. Anmeldelink: https://www.spm-ev.de/termink
 alender/eventdetail/955/-/seminar-tiefes-blech
DTSTART;VALUE=DATE:20261023
DTEND;VALUE=DATE:20261025
LOCATION:Kohren-Sahlis: Heimvolkshochschule Kohren-Sahlis
SUMMARY:Seminar 'Tiefes Blech' - :: Weiterbildung mit neuer Literatur für t
 iefe Stimmen
URL:https://kalender.evlks.de/veranstaltung_im_detail122958.html
END:VEVENT
END:VCALENDAR
