BEGIN:VCALENDAR
VERSION:2.0
PRODID:-//evangelische-termine.de//NONSGML kigkonsult.se iCalcreator 2.18//
CALSCALE:GREGORIAN
METHOD:PUBLISH
X-WR-CALNAME:iCal Evangelische-Termine 20.04.2026
X-WR-CALDESC:iCalender von Evangelische-Termine (20.04.2026)
X-WR-TIMEZONE:Europe/Berlin
X-MS-OLK-FORCEINSPECTOROPEN:TRUE
BEGIN:VTIMEZONE
TZID:Europe/Berlin
BEGIN:STANDARD
DTSTART:19701025T030000
TZOFFSETFROM:+0200
TZOFFSETTO:+0100
RRULE:FREQ=YEARLY;BYDAY=-1SU;BYMONTH=10
TZNAME:CET
END:STANDARD
BEGIN:DAYLIGHT
DTSTART:19700329T020000
TZOFFSETFROM:+0100
TZOFFSETTO:+0200
RRULE:FREQ=YEARLY;BYDAY=-1SU;BYMONTH=3
TZNAME:CEST
END:DAYLIGHT
END:VTIMEZONE
BEGIN:VEVENT
UID:20260510T100000-123062@evangelische-termine.de
DTSTAMP:20260419T222701Z
DESCRIPTION:\nVeranstaltungsort: Kirche Pockau\nFlöhatalstraße\, 47\n09509 
 Pockau-Lengefeld OT Pockau\nArt der Veranstaltung: Gottesdienste\nKindergo
 ttesdienst: mit Kindergottesdienst\n: Großer Gemeinderaum\n: Kirche
DTSTART;TZID=Europe/Berlin:20260510T100000
DTEND;TZID=Europe/Berlin:20260510T113000
LOCATION:Pockau-Lengefeld OT Pockau: Kirche Pockau
SUMMARY:Gottesdienst mit Heiligem Abendmahl und Kindergottesdienst
URL:https://kalender.evlks.de/veranstaltung_im_detail123062.html
END:VEVENT
END:VCALENDAR
