BEGIN:VCALENDAR
VERSION:2.0
PRODID:-//evangelische-termine.de//NONSGML kigkonsult.se iCalcreator 2.18//
CALSCALE:GREGORIAN
METHOD:PUBLISH
X-WR-CALNAME:iCal Evangelische-Termine 22.04.2026
X-WR-CALDESC:iCalender von Evangelische-Termine (22.04.2026)
X-WR-TIMEZONE:Europe/Berlin
X-MS-OLK-FORCEINSPECTOROPEN:TRUE
BEGIN:VTIMEZONE
TZID:Europe/Berlin
BEGIN:STANDARD
DTSTART:19701025T030000
TZOFFSETFROM:+0200
TZOFFSETTO:+0100
RRULE:FREQ=YEARLY;BYDAY=-1SU;BYMONTH=10
TZNAME:CET
END:STANDARD
BEGIN:DAYLIGHT
DTSTART:19700329T020000
TZOFFSETFROM:+0100
TZOFFSETTO:+0200
RRULE:FREQ=YEARLY;BYDAY=-1SU;BYMONTH=3
TZNAME:CEST
END:DAYLIGHT
END:VTIMEZONE
BEGIN:VEVENT
UID:20260418T170000-126872@evangelische-termine.de
DTSTAMP:20260422T085753Z
DESCRIPTION:\nAusführliche Beschreibung / Mitwirkende: Bristol Grammar Scho
 ol\, United Kingdom\nDirigent: Guy Gerrini\nInternetadresse: https://www.k
 irchspiel-muldental.de\nE-Mail: ksp.muldental@evlks.de\nVeranstaltungsort:
  Grimma Frauenkirche\nFrauenkirchhof\n04668 Grimma\nEintrittspreise / Vorv
 erkauf / Teilnahmekosten / Anmeldung: Eintritt frei\, Spenden für die Kirc
 henmusik erbeten
DTSTART;TZID=Europe/Berlin:20260418T170000
DTEND;TZID=Europe/Berlin:20260418T180000
LOCATION:Grimma: Grimma Frauenkirche
SUMMARY:Bristol Grammar School :: Benefizkonzert für die Grimmaer Kirchenmu
 sik
URL:https://kalender.evlks.de/veranstaltung_im_detail126872.html
END:VEVENT
END:VCALENDAR
