BEGIN:VCALENDAR
VERSION:2.0
PRODID:-//evangelische-termine.de//NONSGML kigkonsult.se iCalcreator 2.18//
CALSCALE:GREGORIAN
METHOD:PUBLISH
X-WR-CALNAME:iCal Evangelische-Termine 20.04.2026
X-WR-CALDESC:iCalender von Evangelische-Termine (20.04.2026)
X-WR-TIMEZONE:Europe/Berlin
X-MS-OLK-FORCEINSPECTOROPEN:TRUE
BEGIN:VTIMEZONE
TZID:Europe/Berlin
BEGIN:STANDARD
DTSTART:19701025T030000
TZOFFSETFROM:+0200
TZOFFSETTO:+0100
RRULE:FREQ=YEARLY;BYDAY=-1SU;BYMONTH=10
TZNAME:CET
END:STANDARD
BEGIN:DAYLIGHT
DTSTART:19700329T020000
TZOFFSETFROM:+0100
TZOFFSETTO:+0200
RRULE:FREQ=YEARLY;BYDAY=-1SU;BYMONTH=3
TZNAME:CEST
END:DAYLIGHT
END:VTIMEZONE
BEGIN:VEVENT
UID:20260530T090000-127692@evangelische-termine.de
DTSTAMP:20260420T065720Z
DESCRIPTION:\nOnline/Offline: Präsenz\nVeranstaltungsort: Lumbachhöhe Laute
 r\nHeinrich-Heine-Straße 91\n08315 Lauter-Bernsbach\nAusführliche Beschrei
 bung: Fußballcup in Lauter: Ihr seid als JG nicht nur sportlich unterwegs\
 , sondern auch totale Fußballkönner? Dann meldet euch zum Fußballcup an un
 d gewinnt einen der großartigen Pokale.\nArt der Veranstaltung: Gottesdien
 ste\; Sport/Spiel
DTSTART;TZID=Europe/Berlin:20260530T090000
DTEND;TZID=Europe/Berlin:20260530T100000
LOCATION:Lauter-Bernsbach: Lumbachhöhe Lauter
SUMMARY:EvJuAu Fußball-Cup in Lauter
URL:https://kalender.evlks.de/veranstaltung_im_detail127692.html
END:VEVENT
END:VCALENDAR
