BEGIN:VCALENDAR
VERSION:2.0
PRODID:-//evangelische-termine.de//NONSGML kigkonsult.se iCalcreator 2.18//
CALSCALE:GREGORIAN
METHOD:PUBLISH
X-WR-CALNAME:iCal Evangelische-Termine 21.04.2026
X-WR-CALDESC:iCalender von Evangelische-Termine (21.04.2026)
X-WR-TIMEZONE:Europe/Berlin
X-MS-OLK-FORCEINSPECTOROPEN:TRUE
BEGIN:VTIMEZONE
TZID:Europe/Berlin
BEGIN:STANDARD
DTSTART:19701025T030000
TZOFFSETFROM:+0200
TZOFFSETTO:+0100
RRULE:FREQ=YEARLY;BYDAY=-1SU;BYMONTH=10
TZNAME:CET
END:STANDARD
BEGIN:DAYLIGHT
DTSTART:19700329T020000
TZOFFSETFROM:+0100
TZOFFSETTO:+0200
RRULE:FREQ=YEARLY;BYDAY=-1SU;BYMONTH=3
TZNAME:CEST
END:DAYLIGHT
END:VTIMEZONE
BEGIN:VEVENT
UID:20261107T090000-127693@evangelische-termine.de
DTSTAMP:20260421T110249Z
DESCRIPTION:\nOnline/Offline: Präsenz\nVeranstaltungsort: Turnhalle Breiten
 brunn\nHauptstraße 112\n08359 Breitenbrunn\nAusführliche Beschreibung: Vol
 leyballturnier in Aue: Ein großartiges Turnier mit vielen verschiedenen Ma
 nnschaften aller JGs aus dem Kirchenbezirk und du und deine JG dürfen dabe
 i nicht fehlen!\nArt der Veranstaltung: Gottesdienste\; Sport/Spiel
DTSTART;TZID=Europe/Berlin:20261107T090000
DTEND;TZID=Europe/Berlin:20261107T100000
LOCATION:Breitenbrunn: Turnhalle Breitenbrunn
SUMMARY:EvJuAu Volleyball-Turnier
URL:https://kalender.evlks.de/veranstaltung_im_detail127693.html
END:VEVENT
END:VCALENDAR
