BEGIN:VCALENDAR
VERSION:2.0
PRODID:-//evangelische-termine.de//NONSGML kigkonsult.se iCalcreator 2.18//
CALSCALE:GREGORIAN
METHOD:PUBLISH
X-WR-CALNAME:iCal Evangelische-Termine 21.04.2026
X-WR-CALDESC:iCalender von Evangelische-Termine (21.04.2026)
X-WR-TIMEZONE:Europe/Berlin
X-MS-OLK-FORCEINSPECTOROPEN:TRUE
BEGIN:VTIMEZONE
TZID:Europe/Berlin
BEGIN:STANDARD
DTSTART:19701025T030000
TZOFFSETFROM:+0200
TZOFFSETTO:+0100
RRULE:FREQ=YEARLY;BYDAY=-1SU;BYMONTH=10
TZNAME:CET
END:STANDARD
BEGIN:DAYLIGHT
DTSTART:19700329T020000
TZOFFSETFROM:+0100
TZOFFSETTO:+0200
RRULE:FREQ=YEARLY;BYDAY=-1SU;BYMONTH=3
TZNAME:CEST
END:DAYLIGHT
END:VTIMEZONE
BEGIN:VEVENT
UID:20260228T170000-132197@evangelische-termine.de
DTSTAMP:20260421T090833Z
DESCRIPTION:\nKurzbeschreibung: A-cappella-Pop von Beatles bis Wise Guys\nO
 rt: Löbtau\, Hoffnungskirche\nClara-Zetkin-Straße 30\n01159 Dresden\nArt d
 er Veranstaltung: Konzerte/Theater/Musik\nInternetadresse (eigene Infos im
  Internet): https://landing.churchdesk.com/de/e/41409703/festgesang-20-jah
 re-cumulus-cantorum\nMitwirkende: Cumulus Cantorum
DTSTART;TZID=Europe/Berlin:20260228T170000
DTEND;TZID=Europe/Berlin:20260228T180000
LOCATION:Dresden: Löbtau\, Hoffnungskirche
SUMMARY:Festgesang 20 Jahre Cumulus Cantorum
URL:https://kalender.evlks.de/veranstaltung_im_detail132197.html
END:VEVENT
END:VCALENDAR
