BEGIN:VCALENDAR
VERSION:2.0
PRODID:-//evangelische-termine.de//NONSGML kigkonsult.se iCalcreator 2.18//
CALSCALE:GREGORIAN
METHOD:PUBLISH
X-WR-CALNAME:iCal Evangelische-Termine 21.04.2026
X-WR-CALDESC:iCalender von Evangelische-Termine (21.04.2026)
X-WR-TIMEZONE:Europe/Berlin
X-MS-OLK-FORCEINSPECTOROPEN:TRUE
BEGIN:VTIMEZONE
TZID:Europe/Berlin
BEGIN:STANDARD
DTSTART:19701025T030000
TZOFFSETFROM:+0200
TZOFFSETTO:+0100
RRULE:FREQ=YEARLY;BYDAY=-1SU;BYMONTH=10
TZNAME:CET
END:STANDARD
BEGIN:DAYLIGHT
DTSTART:19700329T020000
TZOFFSETFROM:+0100
TZOFFSETTO:+0200
RRULE:FREQ=YEARLY;BYDAY=-1SU;BYMONTH=3
TZNAME:CEST
END:DAYLIGHT
END:VTIMEZONE
BEGIN:VEVENT
UID:20260719T000000-132878@evangelische-termine.de
DTSTAMP:20260421T210256Z
DESCRIPTION:\nOrt: Ev. Freizeit- und Bildungsstätte Lückendorf\nGabler Str.
   13\n02797 Lückendorf\nAusführliche Beschreibung: Wir wollen gemeinsam an
 hand der Jahreslosung: Gott spricht: siehe ich mache alles neu' Off.21\,5 
 überlegen\, was uns diese Worte in unserem Alltag sagen können. Außerdem g
 ibt es zahlreiche Anregungen für Enkel und Großeltern\, lohnenswerte Ausfl
 üge und jede Menge Ideen für die gemeinsame Beschäftigung. Außerdem bieten
  diese Tage pragmatische Hilfestellungen bei vielen Erziehungsfragen.\nArt
  der Veranstaltung: Freizeiten/Reisen\nInternetadresse (eigene Infos im In
 ternet): https://ev-bildungsstaette-lueckendorf.de\nE-Mail: bildungsstaett
 e.lueckendorf@evlks.de\nMitwirkende: Matthias Jyrch\, Brunhilde und Peter 
 Pantke\, Simone Noack und Team\nWeitere Informationen: Für Kinder ab 6 Jah
 ren\nKosten: 140\,00 € pro Person (bei Förderung durch den KSV Sachsen)
DTSTART;VALUE=DATE:20260719
DTEND;VALUE=DATE:20260725
LOCATION:Lückendorf: Ev. Freizeit- und Bildungsstätte Lückendorf
SUMMARY:Großeltern-Enkel-Tage
URL:https://kalender.evlks.de/veranstaltung_im_detail132878.html
END:VEVENT
END:VCALENDAR
