BEGIN:VCALENDAR
VERSION:2.0
PRODID:-//evangelische-termine.de//NONSGML kigkonsult.se iCalcreator 2.18//
CALSCALE:GREGORIAN
METHOD:PUBLISH
X-WR-CALNAME:iCal Evangelische-Termine 22.04.2026
X-WR-CALDESC:iCalender von Evangelische-Termine (22.04.2026)
X-WR-TIMEZONE:Europe/Berlin
X-MS-OLK-FORCEINSPECTOROPEN:TRUE
BEGIN:VTIMEZONE
TZID:Europe/Berlin
BEGIN:STANDARD
DTSTART:19701025T030000
TZOFFSETFROM:+0200
TZOFFSETTO:+0100
RRULE:FREQ=YEARLY;BYDAY=-1SU;BYMONTH=10
TZNAME:CET
END:STANDARD
BEGIN:DAYLIGHT
DTSTART:19700329T020000
TZOFFSETFROM:+0100
TZOFFSETTO:+0200
RRULE:FREQ=YEARLY;BYDAY=-1SU;BYMONTH=3
TZNAME:CEST
END:DAYLIGHT
END:VTIMEZONE
BEGIN:VEVENT
UID:20260419T101500-134796@evangelische-termine.de
DTSTAMP:20260422T085902Z
DESCRIPTION:\nmit: Kirchenmusik\nAnsprechpartner: Pfarrer Markus Wendland m
 arkus.wendland@evlks.de\n03 43 82 - 4 13 06\nKollekte: Posaunenmission und
  Evangelisation\nMusikalische Leitung: Kantor Maik Gosdzinski\nVeranstaltu
 ngsort: Nerchau St.-Martins-Kirche\nKirchstraße 4\n04668 Grimma OT Nerchau
DTSTART;TZID=Europe/Berlin:20260419T101500
DTEND;TZID=Europe/Berlin:20260419T111500
LOCATION:Grimma OT Nerchau: Nerchau St.-Martins-Kirche
SUMMARY:Abschlussgottesdienst Gospelworkshop
URL:https://kalender.evlks.de/veranstaltung_im_detail134796.html
END:VEVENT
END:VCALENDAR
