BEGIN:VCALENDAR
VERSION:2.0
PRODID:-//evangelische-termine.de//NONSGML kigkonsult.se iCalcreator 2.18//
CALSCALE:GREGORIAN
METHOD:PUBLISH
X-WR-CALNAME:iCal Evangelische-Termine 22.04.2026
X-WR-CALDESC:iCalender von Evangelische-Termine (22.04.2026)
X-WR-TIMEZONE:Europe/Berlin
X-MS-OLK-FORCEINSPECTOROPEN:TRUE
BEGIN:VTIMEZONE
TZID:Europe/Berlin
BEGIN:STANDARD
DTSTART:19701025T030000
TZOFFSETFROM:+0200
TZOFFSETTO:+0100
RRULE:FREQ=YEARLY;BYDAY=-1SU;BYMONTH=10
TZNAME:CET
END:STANDARD
BEGIN:DAYLIGHT
DTSTART:19700329T020000
TZOFFSETFROM:+0100
TZOFFSETTO:+0200
RRULE:FREQ=YEARLY;BYDAY=-1SU;BYMONTH=3
TZNAME:CEST
END:DAYLIGHT
END:VTIMEZONE
BEGIN:VEVENT
UID:20260419T101500-134800@evangelische-termine.de
DTSTAMP:20260422T085755Z
DESCRIPTION:\nAnsprechpartner: Lektorin Heike Raubold heike.raubold@evlks.d
 e\n0160 - 96 21 95 09\nKollekte: Posaunenmission und Evangelisation\nMusik
 alische Leitung: Organistin Katharina Nicolaus\nInternetadresse: https://w
 ww.kirchspiel-muldental.de\nE-Mail: heike.raubold@evlk.de\nVeranstaltungso
 rt: Mutzschen Stadtkirche\nMarktplatz\n04668 Grimma OT Mutzschen
DTSTART;TZID=Europe/Berlin:20260419T101500
DTEND;TZID=Europe/Berlin:20260419T111500
LOCATION:Grimma OT Mutzschen: Mutzschen Stadtkirche
SUMMARY:Predigtgottesdienst
URL:https://kalender.evlks.de/veranstaltung_im_detail134800.html
END:VEVENT
END:VCALENDAR
