BEGIN:VCALENDAR
VERSION:2.0
PRODID:-//evangelische-termine.de//NONSGML kigkonsult.se iCalcreator 2.18//
CALSCALE:GREGORIAN
METHOD:PUBLISH
X-WR-CALNAME:iCal Evangelische-Termine 22.04.2026
X-WR-CALDESC:iCalender von Evangelische-Termine (22.04.2026)
X-WR-TIMEZONE:Europe/Berlin
X-MS-OLK-FORCEINSPECTOROPEN:TRUE
BEGIN:VTIMEZONE
TZID:Europe/Berlin
BEGIN:STANDARD
DTSTART:19701025T030000
TZOFFSETFROM:+0200
TZOFFSETTO:+0100
RRULE:FREQ=YEARLY;BYDAY=-1SU;BYMONTH=10
TZNAME:CET
END:STANDARD
BEGIN:DAYLIGHT
DTSTART:19700329T020000
TZOFFSETFROM:+0100
TZOFFSETTO:+0200
RRULE:FREQ=YEARLY;BYDAY=-1SU;BYMONTH=3
TZNAME:CEST
END:DAYLIGHT
END:VTIMEZONE
BEGIN:VEVENT
UID:20260419T090000-134801@evangelische-termine.de
DTSTAMP:20260422T085741Z
DESCRIPTION:\nAnsprechpartner: Pfarrerin Birgit Silberbach birgit.silberbac
 h@evlks.de\n03 43 83- 6 28 07\nKollekte: Posaunenmission und Evangelisatio
 n\nMusikalische Leitung: Organist Reinhard Peldszus\nInternetadresse: http
 s://www.kirchspiel-muldental.de\nE-Mail: birgit.silberbach@evlks.de\nVeran
 staltungsort: Ragewitz Kirche\nRagewitzer Straße 12a\n04668 Grimma OT Rage
 witz
DTSTART;TZID=Europe/Berlin:20260419T090000
DTEND;TZID=Europe/Berlin:20260419T100000
LOCATION:Grimma OT Ragewitz: Ragewitz Kirche
SUMMARY:Predigtgottesdienst
URL:https://kalender.evlks.de/veranstaltung_im_detail134801.html
END:VEVENT
END:VCALENDAR
