BEGIN:VCALENDAR
VERSION:2.0
PRODID:-//evangelische-termine.de//NONSGML kigkonsult.se iCalcreator 2.18//
CALSCALE:GREGORIAN
METHOD:PUBLISH
X-WR-CALNAME:iCal Evangelische-Termine 21.04.2026
X-WR-CALDESC:iCalender von Evangelische-Termine (21.04.2026)
X-WR-TIMEZONE:Europe/Berlin
X-MS-OLK-FORCEINSPECTOROPEN:TRUE
BEGIN:VTIMEZONE
TZID:Europe/Berlin
BEGIN:STANDARD
DTSTART:19701025T030000
TZOFFSETFROM:+0200
TZOFFSETTO:+0100
RRULE:FREQ=YEARLY;BYDAY=-1SU;BYMONTH=10
TZNAME:CET
END:STANDARD
BEGIN:DAYLIGHT
DTSTART:19700329T020000
TZOFFSETFROM:+0100
TZOFFSETTO:+0200
RRULE:FREQ=YEARLY;BYDAY=-1SU;BYMONTH=3
TZNAME:CEST
END:DAYLIGHT
END:VTIMEZONE
BEGIN:VEVENT
UID:20260425T180000-134803@evangelische-termine.de
DTSTAMP:20260421T123703Z
DESCRIPTION:\nmit: Abendmahl\nAnsprechpartner: Pfarrer Markus Wendland mark
 us.wendland@evlks.de\n03 43 82 - 4 13 06\nKollekte: eigene Gemeinde\nInter
 netadresse: https://www.kirchspiel-muldental.de\nE-Mail: markus.wendland@e
 vlks.de\nVeranstaltungsort: Grimma Frauenkirche\nFrauenkirchhof\n04668 Gri
 mma
DTSTART;TZID=Europe/Berlin:20260425T180000
DTEND;TZID=Europe/Berlin:20260425T190000
LOCATION:Grimma: Grimma Frauenkirche
SUMMARY:Konfirmandenabendmahl
URL:https://kalender.evlks.de/veranstaltung_im_detail134803.html
END:VEVENT
END:VCALENDAR
