BEGIN:VCALENDAR
VERSION:2.0
PRODID:-//evangelische-termine.de//NONSGML kigkonsult.se iCalcreator 2.18//
CALSCALE:GREGORIAN
METHOD:PUBLISH
X-WR-CALNAME:iCal Evangelische-Termine 21.04.2026
X-WR-CALDESC:iCalender von Evangelische-Termine (21.04.2026)
X-WR-TIMEZONE:Europe/Berlin
X-MS-OLK-FORCEINSPECTOROPEN:TRUE
BEGIN:VTIMEZONE
TZID:Europe/Berlin
BEGIN:STANDARD
DTSTART:19701025T030000
TZOFFSETFROM:+0200
TZOFFSETTO:+0100
RRULE:FREQ=YEARLY;BYDAY=-1SU;BYMONTH=10
TZNAME:CET
END:STANDARD
BEGIN:DAYLIGHT
DTSTART:19700329T020000
TZOFFSETFROM:+0100
TZOFFSETTO:+0200
RRULE:FREQ=YEARLY;BYDAY=-1SU;BYMONTH=3
TZNAME:CEST
END:DAYLIGHT
END:VTIMEZONE
BEGIN:VEVENT
UID:20260426T101500-134806@evangelische-termine.de
DTSTAMP:20260421T123806Z
DESCRIPTION:\nmit: Abendmahl\nAnsprechpartner: Pfarrer Torsten Merkel torst
 en.merkel@evlks.de\nüber Pfarramt Grimma 03 43 47 - 94 15 656\nKollekte: e
 igene Gemeinde\nMusikalische Leitung: Kantorin Uta Engel\nInternetadresse:
  https://www.kirchspiel-muldental.de\nE-Mail: torsten.merkel@evlks.de\nVer
 anstaltungsort: Höfgen Kirche\nHöfgener Dorfstraße 7\n04668 Grimma OT Höfg
 en
DTSTART;TZID=Europe/Berlin:20260426T101500
DTEND;TZID=Europe/Berlin:20260426T111500
LOCATION:Grimma OT Höfgen: Höfgen Kirche
SUMMARY:Predigtgottesdienst mit Abendmahl
URL:https://kalender.evlks.de/veranstaltung_im_detail134806.html
END:VEVENT
END:VCALENDAR
