BEGIN:VCALENDAR
VERSION:2.0
PRODID:-//evangelische-termine.de//NONSGML kigkonsult.se iCalcreator 2.18//
CALSCALE:GREGORIAN
METHOD:PUBLISH
X-WR-CALNAME:iCal Evangelische-Termine 21.04.2026
X-WR-CALDESC:iCalender von Evangelische-Termine (21.04.2026)
X-WR-TIMEZONE:Europe/Berlin
X-MS-OLK-FORCEINSPECTOROPEN:TRUE
BEGIN:VTIMEZONE
TZID:Europe/Berlin
BEGIN:STANDARD
DTSTART:19701025T030000
TZOFFSETFROM:+0200
TZOFFSETTO:+0100
RRULE:FREQ=YEARLY;BYDAY=-1SU;BYMONTH=10
TZNAME:CET
END:STANDARD
BEGIN:DAYLIGHT
DTSTART:19700329T020000
TZOFFSETFROM:+0100
TZOFFSETTO:+0200
RRULE:FREQ=YEARLY;BYDAY=-1SU;BYMONTH=3
TZNAME:CEST
END:DAYLIGHT
END:VTIMEZONE
BEGIN:VEVENT
UID:20260426T101500-134807@evangelische-termine.de
DTSTAMP:20260421T123611Z
DESCRIPTION:\nAnsprechpartner: Pfarrerin Birgit Silberbach birgit.silberbac
 h@evlks.de\n03 43 83- 6 28 07\nInternetadresse: https://www.kirchspiel-mul
 dental.de\nE-Mail: birgit.silberbach@evlks.de\nVeranstaltungsort: Seelings
 tädt Kirche\nSchulstraße 21b\n04687 Trebsen/Mulde OT Seelingstädt
DTSTART;TZID=Europe/Berlin:20260426T101500
DTEND;TZID=Europe/Berlin:20260426T111500
LOCATION:Trebsen/Mulde OT Seelingstädt: Seelingstädt Kirche
SUMMARY:Gottesdienst zur Eröffnung der Bibelwoche :: Eine Frage des Vertrau
 ens - Das Gebet der Ester
URL:https://kalender.evlks.de/veranstaltung_im_detail134807.html
END:VEVENT
END:VCALENDAR
