BEGIN:VCALENDAR
VERSION:2.0
PRODID:-//evangelische-termine.de//NONSGML kigkonsult.se iCalcreator 2.18//
CALSCALE:GREGORIAN
METHOD:PUBLISH
X-WR-CALNAME:iCal Evangelische-Termine 21.04.2026
X-WR-CALDESC:iCalender von Evangelische-Termine (21.04.2026)
X-WR-TIMEZONE:Europe/Berlin
X-MS-OLK-FORCEINSPECTOROPEN:TRUE
BEGIN:VTIMEZONE
TZID:Europe/Berlin
BEGIN:STANDARD
DTSTART:19701025T030000
TZOFFSETFROM:+0200
TZOFFSETTO:+0100
RRULE:FREQ=YEARLY;BYDAY=-1SU;BYMONTH=10
TZNAME:CET
END:STANDARD
BEGIN:DAYLIGHT
DTSTART:19700329T020000
TZOFFSETFROM:+0100
TZOFFSETTO:+0200
RRULE:FREQ=YEARLY;BYDAY=-1SU;BYMONTH=3
TZNAME:CEST
END:DAYLIGHT
END:VTIMEZONE
BEGIN:VEVENT
UID:20260424T200000-134809@evangelische-termine.de
DTSTAMP:20260421T123435Z
DESCRIPTION:\nAnsprechpartner: Pfarrer Henning Olschowsky henning.olschowsk
 y@evlks.de\n0176 -  81 59 97 03\, über Pfarramt Grimma 03 43 47 - 94 15 65
 6\nKollekte: eigene Gemeinde und Musikinitiative\nInternetadresse: https:/
 /www.kirchspiel-muldental.de\nE-Mail: henning.olschowsky@evlks.de\nVeranst
 altungsort: Cannewitz Kirche\nAlte Dorfstraße 21\n04668 Grimma OT Cannewit
 z
DTSTART;TZID=Europe/Berlin:20260424T200000
DTEND;TZID=Europe/Berlin:20260424T210000
LOCATION:Grimma OT Cannewitz: Cannewitz Kirche
SUMMARY:Nachteulengottesdienst - 'Geh aus mein Herz und suche Freud' :: Pau
 l Gerhard meets Rock mit den 'Black Holes'
URL:https://kalender.evlks.de/veranstaltung_im_detail134809.html
END:VEVENT
END:VCALENDAR
