BEGIN:VCALENDAR
VERSION:2.0
PRODID:-//evangelische-termine.de//NONSGML kigkonsult.se iCalcreator 2.18//
CALSCALE:GREGORIAN
METHOD:PUBLISH
X-WR-CALNAME:iCal Evangelische-Termine 21.04.2026
X-WR-CALDESC:iCalender von Evangelische-Termine (21.04.2026)
X-WR-TIMEZONE:Europe/Berlin
X-MS-OLK-FORCEINSPECTOROPEN:TRUE
BEGIN:VTIMEZONE
TZID:Europe/Berlin
BEGIN:STANDARD
DTSTART:19701025T030000
TZOFFSETFROM:+0200
TZOFFSETTO:+0100
RRULE:FREQ=YEARLY;BYDAY=-1SU;BYMONTH=10
TZNAME:CET
END:STANDARD
BEGIN:DAYLIGHT
DTSTART:19700329T020000
TZOFFSETFROM:+0100
TZOFFSETTO:+0200
RRULE:FREQ=YEARLY;BYDAY=-1SU;BYMONTH=3
TZNAME:CEST
END:DAYLIGHT
END:VTIMEZONE
BEGIN:VEVENT
UID:20260313T200000-139240@evangelische-termine.de
DTSTAMP:20260421T090755Z
DESCRIPTION:\nOrt: Versöhnungskirche Dresden Striesen\nSchandauer Str. 35\n
 01277 Dresden\nAusführliche Beschreibung: Im Rahmen der 11. Dresdner Stumm
 filmtage treffen sich die Stummfilmfreunde in der Versöhnungskirche\, um d
 en Klängen der Orgel zu einem Stummfilm zu lauschen. Präsentiert wird der 
 Film „Buddenbrooks“ (Deutschland 1923\, Regie: Gerhard Lamprecht).\nDie ep
 ische Verfilmung des Familienromans „Die Buddenbrooks“ von Thomas Mann erz
 ählt den Aufstieg und Niedergang einer wohlhabenden Lübecker Kaufmannsfami
 lie über mehrere Generationen. Mit großem Aufwand inszeniert\, zeichnet de
 r Regisseur Gerhard Lamprecht ein eindrucksvolles Bild des 19. Jahrhundert
 s und der gesellschaftlichen Umbrüche\, die das traditionsbewusste Bürgert
 um erschüttern. Stilistisch verbindet der Film realistische Milieu-schilde
 rung mit expressiven Momenten und gilt als einer der ambitioniertesten deu
 tschen Literaturverfilmungen der Weimarer Zeit. Mit eindrucksvoller Orgelm
 usik von Michael Vetter an der Jahn-Orgel.\nKarten über Tel.: 0351 4887272
  (Technische Sammlungen Dresden) und an der Abendkasse\nin der Kirche.\nDa
 s vollständige Programm der 11. Dresdner Stummfilmtage finden Sie unter: w
 ww.tsd.de.\nArt der Veranstaltung: Konzerte/Theater/Musik\nInternetadresse
  (eigene Infos im Internet): https://www.kirchgemeinde-dresden-blasewitz.d
 e
DTSTART;TZID=Europe/Berlin:20260313T200000
DTEND;TZID=Europe/Berlin:20260313T210000
LOCATION:Dresden: Versöhnungskirche Dresden Striesen
SUMMARY:Stummfilm-Konzert „Die Buddenbrooks“:
URL:https://kalender.evlks.de/veranstaltung_im_detail139240.html
END:VEVENT
END:VCALENDAR
