BEGIN:VCALENDAR
VERSION:2.0
PRODID:-//evangelische-termine.de//NONSGML kigkonsult.se iCalcreator 2.18//
CALSCALE:GREGORIAN
METHOD:PUBLISH
X-WR-CALNAME:iCal Evangelische-Termine 23.04.2026
X-WR-CALDESC:iCalender von Evangelische-Termine (23.04.2026)
X-WR-TIMEZONE:Europe/Berlin
X-MS-OLK-FORCEINSPECTOROPEN:TRUE
BEGIN:VTIMEZONE
TZID:Europe/Berlin
BEGIN:STANDARD
DTSTART:19701025T030000
TZOFFSETFROM:+0200
TZOFFSETTO:+0100
RRULE:FREQ=YEARLY;BYDAY=-1SU;BYMONTH=10
TZNAME:CET
END:STANDARD
BEGIN:DAYLIGHT
DTSTART:19700329T020000
TZOFFSETFROM:+0100
TZOFFSETTO:+0200
RRULE:FREQ=YEARLY;BYDAY=-1SU;BYMONTH=3
TZNAME:CEST
END:DAYLIGHT
END:VTIMEZONE
BEGIN:VEVENT
UID:20260509T170000-140981@evangelische-termine.de
DTSTAMP:20260423T120050Z
DESCRIPTION:\nOrt: Johanniskirche Rußdorf\n09212 Limbach-Oberfrohna\, OT Ru
 ßdorf\nAusführliche Beschreibung: Die beliebte Harfenistin Jessyca Flemmin
 g ist unseren Konzertbesuchern bestens bekannt. Diesmal ist sie mit dem uk
 rainischen Solooboisten Mykyta Sierov bei uns zu Gast. Vielleicht erinnern
  sich noch manche an das beeindruckende Konzert\, dass sie 2016 in unserer
  Johanniskirche gaben. Die beiden virtuosen Musiker sind ein eingespieltes
  Team. Sie kennen sich aus ihrer Weimarer Studienzeit und treten seitdem g
 emeinsam als Duo „Distensione' auf.  Die seltene Kombination von Oboe und 
 Harfe mit ihrem breiten und überraschenden Klangspektrum erstaunt immer wi
 eder: Von „Klassischer Musik“ bis hin zu jazzigen Werken\, eigenen Komposi
 tionen und Filmmusik ist alles dabei! Geboten wird ein Konzert für Jung bi
 s Alt\, das bereits ein Publikum quer durch Deutschland und im Ausland beg
 eisterte! Es erklingen u. a. Werke von Bach\, Grieg\, Gershwin\, Rimsky-Ko
 rsakov\, Armstrong\, Yiruma und Morricone.\nDer Eintritt ist frei. Es wird
  um eine Spende gebeten.\nDas Konzert wird gefördert vom Kulturraum Vogtla
 nd-Zwickau und der Stadt Limbach-Oberfrohna.\nArt der Veranstaltung: Konze
 rte/Theater/Musik\nAnsprechperson: Peter Siegel\n03722 949633
DTSTART;TZID=Europe/Berlin:20260509T170000
DTEND;TZID=Europe/Berlin:20260509T181500
LOCATION:Limbach-Oberfrohna\, OT Rußdorf: Johanniskirche Rußdorf
SUMMARY:„Klassik mal anders“ :: - das besondere Konzert für Oboe und Harfe 
  mit Mykyta Sierov und Jessyca Flemming
URL:https://kalender.evlks.de/veranstaltung_im_detail140981.html
END:VEVENT
END:VCALENDAR
