BEGIN:VCALENDAR
VERSION:2.0
PRODID:-//evangelische-termine.de//NONSGML kigkonsult.se iCalcreator 2.18//
CALSCALE:GREGORIAN
METHOD:PUBLISH
X-WR-CALNAME:iCal Evangelische-Termine 25.04.2026
X-WR-CALDESC:iCalender von Evangelische-Termine (25.04.2026)
X-WR-TIMEZONE:Europe/Berlin
X-MS-OLK-FORCEINSPECTOROPEN:TRUE
BEGIN:VTIMEZONE
TZID:Europe/Berlin
BEGIN:STANDARD
DTSTART:19701025T030000
TZOFFSETFROM:+0200
TZOFFSETTO:+0100
RRULE:FREQ=YEARLY;BYDAY=-1SU;BYMONTH=10
TZNAME:CET
END:STANDARD
BEGIN:DAYLIGHT
DTSTART:19700329T020000
TZOFFSETFROM:+0100
TZOFFSETTO:+0200
RRULE:FREQ=YEARLY;BYDAY=-1SU;BYMONTH=3
TZNAME:CEST
END:DAYLIGHT
END:VTIMEZONE
BEGIN:VEVENT
UID:20260506T093000-142841@evangelische-termine.de
DTSTAMP:20260425T213954Z
DESCRIPTION:\nVeranstaltungsort: DRK Alten- und Pflegeheim\nFritz-Fritzsche
 -Straße 1\n09123 Chemnitz\nArt der Veranstaltung: Gebete/Andachten/Frieden
 sgebete\nGottesdienstleitende: Prädikantin S. von Heyking
DTSTART;TZID=Europe/Berlin:20260506T093000
DTEND;TZID=Europe/Berlin:20260506T101500
LOCATION:Chemnitz: DRK Alten- und Pflegeheim
SUMMARY:Bibelstunde im Seniorenheim
URL:https://kalender.evlks.de/veranstaltung_im_detail142841.html
END:VEVENT
END:VCALENDAR
