BEGIN:VCALENDAR
VERSION:2.0
PRODID:-//evangelische-termine.de//NONSGML kigkonsult.se iCalcreator 2.18//
CALSCALE:GREGORIAN
METHOD:PUBLISH
X-WR-CALNAME:iCal Evangelische-Termine 23.04.2026
X-WR-CALDESC:iCalender von Evangelische-Termine (23.04.2026)
X-WR-TIMEZONE:Europe/Berlin
X-MS-OLK-FORCEINSPECTOROPEN:TRUE
BEGIN:VTIMEZONE
TZID:Europe/Berlin
BEGIN:STANDARD
DTSTART:19701025T030000
TZOFFSETFROM:+0200
TZOFFSETTO:+0100
RRULE:FREQ=YEARLY;BYDAY=-1SU;BYMONTH=10
TZNAME:CET
END:STANDARD
BEGIN:DAYLIGHT
DTSTART:19700329T020000
TZOFFSETFROM:+0100
TZOFFSETTO:+0200
RRULE:FREQ=YEARLY;BYDAY=-1SU;BYMONTH=3
TZNAME:CEST
END:DAYLIGHT
END:VTIMEZONE
BEGIN:VEVENT
UID:20260530T090000-143351@evangelische-termine.de
DTSTAMP:20260423T095818Z
DESCRIPTION:\nKurzbeschreibung / Untertitel: für Interessierte\, die Gottes
 dienste oder Andachten gestalten\nVeranstaltungsort: Klosterhof St. Afra M
 eißen\nFreiheit 16\n01662 Meißen\nAusführliche Beschreibung: Zum Liturgisc
 hen Studientag versammeln sich Menschen\, die Gottesdienste mitgestalten –
  ob ehrenamtlich oder hauptberuflich\, an der Orgel\, im Altarraum oder au
 f der Kanzel. In diesem Jahr richten wir den Blick auf eine zentrale Frage
 : Wie kann die Gemeinde – innerlich wie äußerlich – stärker am Gottesdiens
 t beteiligt werden? Welche Formen der Beteiligung sind wann sinnvoll und w
 ie können sie wirkungsvoll umgesetzt werden? Im Fokus steht dabei die Musi
 k: Angesichts des neuen Gesangbuchs\, das in wenigen Jahren erscheinen wir
 d\, widmen wir uns insbesondere dem Singen und der Musik im Gottesdienst. 
 Darüber hinaus nehmen wir aber auch Lesungen\, Gebete\, Predigt- bzw. Gott
 esdienstgespräche sowie Stationengottesdienste in den Blick.\n\nWie gewohn
 t verbinden wir theologisch-liturgische Impulse mit praktischen Übungen. V
 ertiefende Workshops greifen einzelne Konzepte und Elemente des Gottesdien
 stes auf. Eine umfangreiche Ideensammlung mit Materialien wird allen Teiln
 ehmenden digital zur Verfügung gestellt – als kreative Leinwand zur Inspir
 ation und Weiterarbeit.\nFlyer o. Broschüre zum Herunterladen: https://kir
 chenmusik-sachsen.de/wp-content/uploads/2026/02/Flyer_Studientag-Liturgisc
 he-Bildung_2026_.pdf\; https://kirchenmusik-sachsen.de/wp-content/uploads/
 2026/02/Angebote-Fortbildungen-Ehrenamt_-D-Ausbildung_2026_ASKM_Martina-He
 rgt.pdf\nZielgruppe: Prädikant:innen Lektor:innen\, D- oder ehrenamtlich t
 ätige Kirchenmusiker:innen\, Interessierte\nVeranstalter: Pastoralkolleg d
 er Ev.-Luth. Landeskirche Sachsens \nim Kooperation mit der Arbeitsstelle 
 Kirchenmusik \nund der Ehrenamtsakademie Meißen\nLeitende / Mitwirkende: D
 r. Kathrin Mette\, Meißen\nFA Martina Hergt\, Dresden\nLKMD Burkhard Rüger
 \, Dresden\nDr. Magdalena Herbst\, Meißen\nAnmeldungschluss: 25.04.2026\nA
 nmeldungsadresse bzw. Anmeldelink: https://www.ehrenamtsakademie-sachsen.d
 e/veranstaltungen/anmeldeformular.html?no_cache=1&tx_eaaevents_eaaevents%5
 Baction%5D=mailForm&tx_eaaevents_eaaevents%5Bcontroller%5D=Event&tx_eaaeve
 nts_eaaevents%5Bevent%5D=4279&cHash=38c4d26ed6500c09206341117a1f7ece\n\nEh
 renamtsakademie  Meißen\nE-Mail: www.ehrenamtsakademie-sachsen.de\nTelefon
 : 03521 470653\nAngaben zu den Kosten: 10\,00 EUR
DTSTART;TZID=Europe/Berlin:20260530T090000
DTEND;TZID=Europe/Berlin:20260530T150000
LOCATION:Meißen: Klosterhof St. Afra Meißen
SUMMARY:Gemeindebeteiligung im Gottesdienst -  Studientag Liturgische Bildu
 ng 2026 :: Wie kann die Gemeinde – innerlich wie äußerlich – stärker am Go
 ttesdienst beteiligt werden?
URL:https://kalender.evlks.de/veranstaltung_im_detail143351.html
END:VEVENT
END:VCALENDAR
