BEGIN:VCALENDAR
VERSION:2.0
PRODID:-//evangelische-termine.de//NONSGML kigkonsult.se iCalcreator 2.18//
CALSCALE:GREGORIAN
METHOD:PUBLISH
X-WR-CALNAME:iCal Evangelische-Termine 21.04.2026
X-WR-CALDESC:iCalender von Evangelische-Termine (21.04.2026)
X-WR-TIMEZONE:Europe/Berlin
X-MS-OLK-FORCEINSPECTOROPEN:TRUE
BEGIN:VTIMEZONE
TZID:Europe/Berlin
BEGIN:STANDARD
DTSTART:19701025T030000
TZOFFSETFROM:+0200
TZOFFSETTO:+0100
RRULE:FREQ=YEARLY;BYDAY=-1SU;BYMONTH=10
TZNAME:CET
END:STANDARD
BEGIN:DAYLIGHT
DTSTART:19700329T020000
TZOFFSETFROM:+0100
TZOFFSETTO:+0200
RRULE:FREQ=YEARLY;BYDAY=-1SU;BYMONTH=3
TZNAME:CEST
END:DAYLIGHT
END:VTIMEZONE
BEGIN:VEVENT
UID:20260417T000000-143828@evangelische-termine.de
DTSTAMP:20260421T110329Z
DESCRIPTION:\nOrt: Kreuzkirche Dresden\nAltmarkt\n01067 Dresden\nAusführlic
 he Beschreibung: Friedhöfe sind Orte der Erinnerung\, der Geschichte und d
 er gelebten Verbundenheit. \nDoch wie selbstverständlich ist es\, dass es 
 sie in ihrer heutigen Form auch künftig „für immer“ geben wird? \nMit dies
 er Frage setzt sich die Ausstellung „Grün. Nah. Für immer da?!“ auseinande
 r.\n\nAnhand ausgewählter Exponate aus Friedhofsdepots – darunter kunstvol
 l gestaltete Grabmale\, historische Grabbücher und Lagepläne – wird die En
 twicklung der Friedhofskultur anschaulich dargestellt. \nDie Objekte zeige
 n\, wie frühere Generationen Abschied nahmen und wie sehr Bestattungsforme
 n\, Symbole und Rituale vom jeweiligen Zeitgeist geprägt waren.\nGleichzei
 tig richtet die Ausstellung den Blick auf aktuelle Veränderungen: Gesellsc
 haftlicher Wandel\, neue Lebensformen\, steigende Mobilität und der Wunsch
  nach alternativen Bestattungsarten beeinflussen die Nutzung und Gestaltun
 g von Friedhöfen zunehmend. Klassische Familiengräber werden seltener\, ne
 ue Formen des Gedenkens entstehen.\n\nDie Ausstellung regt dazu an\, über 
 zentrale Fragen nachzudenken: Wie wollen wir künftig erinnern? Welche Orte
  brauchen Trauer und Gedenken? Und wie kann Friedhofskultur zukunftsfähig 
 gestaltet werden?\nZiel ist es\, den Wandel sichtbar zu machen und den Dia
 log über ein Thema anzustoßen\, das die gesamte Gesellschaft betrifft.\nAr
 t der Veranstaltung: Ausstellungen/Kunst\nMitwirkende: Netzwerk Dresdner S
 tadtteilfriedhöfe
DTSTART;VALUE=DATE:20260417
DTEND;VALUE=DATE:20260520
LOCATION:Dresden: Kreuzkirche Dresden
SUMMARY:„Grün. Nah. Für immer da?! – Eine Ausstellung über den Wandel unser
 er Friedhofskultur“
URL:https://kalender.evlks.de/veranstaltung_im_detail143828.html
END:VEVENT
END:VCALENDAR
