BEGIN:VCALENDAR
VERSION:2.0
PRODID:-//evangelische-termine.de//NONSGML kigkonsult.se iCalcreator 2.18//
CALSCALE:GREGORIAN
METHOD:PUBLISH
X-WR-CALNAME:iCal Evangelische-Termine 25.04.2026
X-WR-CALDESC:iCalender von Evangelische-Termine (25.04.2026)
X-WR-TIMEZONE:Europe/Berlin
X-MS-OLK-FORCEINSPECTOROPEN:TRUE
BEGIN:VTIMEZONE
TZID:Europe/Berlin
BEGIN:STANDARD
DTSTART:19701025T030000
TZOFFSETFROM:+0200
TZOFFSETTO:+0100
RRULE:FREQ=YEARLY;BYDAY=-1SU;BYMONTH=10
TZNAME:CET
END:STANDARD
BEGIN:DAYLIGHT
DTSTART:19700329T020000
TZOFFSETFROM:+0100
TZOFFSETTO:+0200
RRULE:FREQ=YEARLY;BYDAY=-1SU;BYMONTH=3
TZNAME:CEST
END:DAYLIGHT
END:VTIMEZONE
BEGIN:VEVENT
UID:20261022T100000-143835@evangelische-termine.de
DTSTAMP:20260425T014352Z
DESCRIPTION:\nOnline/Offline: Präsenz\nVeranstaltungsort: Jugendkirche Chem
 nitz\nTheresenstraße 2\n09111 Chemnitz\nPreis/Kosten: 20\,00 €\nKurzbeschr
 eibung / Untertitel: Audiowerkstatt\nAusführliche Beschreibung: Podcasts\,
  Beiträge\, Hörstücke – Audio geht immer. Und lässt sich überall hören.\n
 \nBeim zweiten Audiowerkstatttag lernt Ihr\, wie eigene Audiobeiträge ents
 tehen: mit Sprache\, O-Tönen\, Geräuschen\, Musik und allem\, was guten So
 und ausmacht. Wir besprechen\, wie Euer Content veröffentlicht und verbrei
 tet werden kann.\nMit den Radioredakteuren Maxi Konang und Andreas Roth.\n
 Kontakt: Ehrenamtsakademie der EVLKS\nFreiheit 15\, 01662 Meißen\nTelefon:
  03521 470653\nE-Mail: ehrenamtsakademie@evlks.de\nwww.ehrenamtsakademie-s
 achsen.de\nReferent/-innen: Dr. Kathrin Mette\, Ehrenamtsakademie\nMira Kö
 rlin\, evangelische Rundfunkbeauftragte\nMaxi Konang\, Kirchenredakteurin
 \nAndreas Roth\, Reporter und Theologe\nBerufsgruppe: Ehrenamtliche\; Erwa
 chsenenbildung\; Jugendreferent/-innen\nArt der Veranstaltung: Fortbildung
 en/Seminare/Vorträge
DTSTART;TZID=Europe/Berlin:20261022T100000
DTEND;TZID=Europe/Berlin:20261022T170000
LOCATION:Chemnitz: Jugendkirche Chemnitz
SUMMARY:Audiowerkstatt 'höre & staune'
URL:https://kalender.evlks.de/veranstaltung_im_detail143835.html
END:VEVENT
END:VCALENDAR
