BEGIN:VCALENDAR
VERSION:2.0
PRODID:-//evangelische-termine.de//NONSGML kigkonsult.se iCalcreator 2.18//
CALSCALE:GREGORIAN
METHOD:PUBLISH
X-WR-CALNAME:iCal Evangelische-Termine 21.04.2026
X-WR-CALDESC:iCalender von Evangelische-Termine (21.04.2026)
X-WR-TIMEZONE:Europe/Berlin
X-MS-OLK-FORCEINSPECTOROPEN:TRUE
BEGIN:VTIMEZONE
TZID:Europe/Berlin
BEGIN:STANDARD
DTSTART:19701025T030000
TZOFFSETFROM:+0200
TZOFFSETTO:+0100
RRULE:FREQ=YEARLY;BYDAY=-1SU;BYMONTH=10
TZNAME:CET
END:STANDARD
BEGIN:DAYLIGHT
DTSTART:19700329T020000
TZOFFSETFROM:+0100
TZOFFSETTO:+0200
RRULE:FREQ=YEARLY;BYDAY=-1SU;BYMONTH=3
TZNAME:CEST
END:DAYLIGHT
END:VTIMEZONE
BEGIN:VEVENT
UID:20260628T210000-145015@evangelische-termine.de
DTSTAMP:20260421T155514Z
DESCRIPTION:\nVeranstaltungsort: Heilig-Geist-Kirche Dresden Blasewitz\nBer
 ggartenstraße 22a\n01277 Dresden\nmusikalische Kategorie: Gesang/Chormusik
 \nInterpreten: Es singt der Jugendchor.\nEintritt: Eintritt frei\nArt der 
 Veranstaltung: Konzerte/Theater/Musik
DTSTART;TZID=Europe/Berlin:20260628T210000
DTEND;TZID=Europe/Berlin:20260628T220000
LOCATION:Dresden: Heilig-Geist-Kirche Dresden Blasewitz
SUMMARY:Even Song :: Chorvesper nach anglikanischer Liturgie
URL:https://kalender.evlks.de/veranstaltung_im_detail145015.html
END:VEVENT
END:VCALENDAR
