BEGIN:VCALENDAR
VERSION:2.0
PRODID:-//evangelische-termine.de//NONSGML kigkonsult.se iCalcreator 2.18//
CALSCALE:GREGORIAN
METHOD:PUBLISH
X-WR-CALNAME:iCal Evangelische-Termine 19.04.2026
X-WR-CALDESC:iCalender von Evangelische-Termine (19.04.2026)
X-WR-TIMEZONE:Europe/Berlin
X-MS-OLK-FORCEINSPECTOROPEN:TRUE
BEGIN:VTIMEZONE
TZID:Europe/Berlin
BEGIN:STANDARD
DTSTART:19701025T030000
TZOFFSETFROM:+0200
TZOFFSETTO:+0100
RRULE:FREQ=YEARLY;BYDAY=-1SU;BYMONTH=10
TZNAME:CET
END:STANDARD
BEGIN:DAYLIGHT
DTSTART:19700329T020000
TZOFFSETFROM:+0100
TZOFFSETTO:+0200
RRULE:FREQ=YEARLY;BYDAY=-1SU;BYMONTH=3
TZNAME:CEST
END:DAYLIGHT
END:VTIMEZONE
BEGIN:VEVENT
UID:20260522T200000-145016@evangelische-termine.de
DTSTAMP:20260419T205515Z
DESCRIPTION:\nUntertitel: Klaus Mertens | Christian Steyer | Christfried Br
 ödel Madrigalion Praga | Capella Trinitatis\nVeranstaltungsort: St. Jakobi
 kirche Chemnitz\nJakobikirchplatz 1\n09111 Chemnitz\nmusikalische Kategori
 e: Ensembles/Solisten\nInterpreten: Klaus Mertens singt\, begleitet von de
 r Capella Trinitatis unter Leitung von Christfried Brödel\, die drei große
 n Kantaten Bachs für Bass solo. Christian Steyer antwortet auf die Werke d
 es Thomaskantors mit Gedanken am Klavier.\nJohann Sebastian Bachs Kantaten
  für Bass solo gehören nicht nur zum Kernrepertoire von Klaus Mertens\, un
 serem Sächsischen Mozartpreisträger 2025\, sie sind auch „Achttausender“ i
 m Hochgebirge der Werke des Thomaskantors.\nAufgeführte Werke: Christfried
  Brödel hat sowohl als Dirigent als auch Pädagoge sein ganzes Leben lang M
 enschen durch die Begegnung mit der Musik und dem Musizieren geprägt. Seit
  2015 wirkte er als Vorsitzender der Neuen Bachgesellschaft e.V.\, legte d
 abei einen Schwerpunkt auf die Ansprache junger Menschen und wird nun dies
 es Amt in jüngere Hände geben.\nChristian Steyer ist ein Multitalent mit T
 iefgang: Pianist\, Schauspieler\, Komponist\, Chorleiter. Wohl jede:r kenn
 t sein Stimme\, nicht nur durch die MDR-Doku-Soap „Elefant\, Tiger & Co.“.
 \nAlle drei verbindet die Liebe zur Musik als einer Triebfeder des Lebens.
  Mit den Bachkantaten „Ich habe genung“ (BWV 82)\, „Der Friede sei mit dir
 “ (BWV 158) und „Ich will den Kreuzstab gerne tragen“ (BWV 56) werden nun 
 diese drei Ausnahmekünstler miteinander und unterstützt von MADRIGALION Pr
 aga und der Capella Trinitatis einen Blick wagen: dem Leben ins Angesicht.
 ..\nEintritt: Vorverkauf: 35 €\, ermäßigt 24 €\nAbendkasse: 39 €\, ermäßig
 t 29 €\n\nTickets auch telefonisch unter +49 371 6949444 und in der Geschä
 ftsstelle der Sächsischen Mozart-Gesellschaft e.V.\, Hartmannstraße 7c\, 0
 9111 Chemnitz\nmontags bis freitags 9-16 Uhr\nTel. +49 371 6949444   eMail
  info@mozart-sachsen.de\nsowie in allen Freie-Presse-Shops in Ihrer Nähe u
 nd online\nBesondere Hinweise: Diese Veranstaltung der Sächsischen Mozart-
 Gesellschaft e.V. in Zusammenarbeit mit der Ev-Luth. St.-Kaobi-Kreuz-Kirch
 gemeinde Chemnitz im Rahmen des 35. Sächsischen Mozartfestes 2026 „Von Ang
 esicht zu Angesicht“ ist Teil des Projektes „Mit vielfältigen Wurzeln die 
 Zukunft gestalten | S rozmanitými kořeny tvořit budoucnost“\, welches im R
 ahmen des deutsch-tschechischen Kooperation des Lead-Partners Sächsischer 
 Musikrat e.V. und der beiden Projektpartner Sächsische Mozart-Gesellschaft
  e.V. und Základní umělecká škola T. G. Masaryka Chomutov\, im Programm „I
 nterreg Sachsen – Tschechien 2021-2027“\, stattfindet.\nInternetadresse: h
 ttps://mozart-sachsen.de/termine-tickets/?eid=184880\nArt der Veranstaltun
 g: Konzerte/Theater/Musik
DTSTART;TZID=Europe/Berlin:20260522T200000
DTEND;TZID=Europe/Berlin:20260522T210000
LOCATION:Chemnitz: St. Jakobikirche Chemnitz
SUMMARY:dem Leben ins Angesicht... von der Kunst\, jung zu altern. Die Bass
 -Solokantaten Johann Sebastian Bachs :: (Jakobikirchplatz 1)
URL:https://kalender.evlks.de/veranstaltung_im_detail145016.html
END:VEVENT
END:VCALENDAR
