BEGIN:VCALENDAR
VERSION:2.0
PRODID:-//evangelische-termine.de//NONSGML kigkonsult.se iCalcreator 2.18//
CALSCALE:GREGORIAN
METHOD:PUBLISH
X-WR-CALNAME:iCal Evangelische-Termine 21.04.2026
X-WR-CALDESC:iCalender von Evangelische-Termine (21.04.2026)
X-WR-TIMEZONE:Europe/Berlin
X-MS-OLK-FORCEINSPECTOROPEN:TRUE
BEGIN:VTIMEZONE
TZID:Europe/Berlin
BEGIN:STANDARD
DTSTART:19701025T030000
TZOFFSETFROM:+0200
TZOFFSETTO:+0100
RRULE:FREQ=YEARLY;BYDAY=-1SU;BYMONTH=10
TZNAME:CET
END:STANDARD
BEGIN:DAYLIGHT
DTSTART:19700329T020000
TZOFFSETFROM:+0100
TZOFFSETTO:+0200
RRULE:FREQ=YEARLY;BYDAY=-1SU;BYMONTH=3
TZNAME:CEST
END:DAYLIGHT
END:VTIMEZONE
BEGIN:VEVENT
UID:20260315T110000-145605@evangelische-termine.de
DTSTAMP:20260421T090733Z
DESCRIPTION:\nKurzbeschreibung: Johann Sebastian Bach GLEICHWIE DER REGEN U
 ND SCHNEE VOM HIMMEL FÄLLT  BWV 18\nVeranstaltungsort: St. Jakobikirche Ch
 emnitz\nJakobikirchplatz 1\n09111 Chemnitz\nAusführliche Beschreibung: Tho
 ra Runhilde Müller – Sopran\nAndrás Adamik – Tenor\nFelix Rohleder – Bass
 \nKammerchor der Kreuzkirche Chemnitz\nChemnitzer Barockorchester\nSteffen
  Walther – Leitung\nArt der Veranstaltung: Gottesdienste\; Konzerte/Theate
 r/Musik\nGottesdienstleitende: Pfarrerin Dorothee Lücke\nLektorendienst: R
 eglindis Streuber\nMusikalische Leitung: Steffen Walther\nKindergottesdien
 st: mit Kindergottesdienst
DTSTART;TZID=Europe/Berlin:20260315T110000
DTEND;TZID=Europe/Berlin:20260315T120000
LOCATION:Chemnitz: St. Jakobikirche Chemnitz
SUMMARY:BACH-Kantate im Gottesdienst
URL:https://kalender.evlks.de/veranstaltung_im_detail145605.html
END:VEVENT
END:VCALENDAR
