BEGIN:VCALENDAR
VERSION:2.0
PRODID:-//evangelische-termine.de//NONSGML kigkonsult.se iCalcreator 2.18//
CALSCALE:GREGORIAN
METHOD:PUBLISH
X-WR-CALNAME:iCal Evangelische-Termine 21.04.2026
X-WR-CALDESC:iCalender von Evangelische-Termine (21.04.2026)
X-WR-TIMEZONE:Europe/Berlin
X-MS-OLK-FORCEINSPECTOROPEN:TRUE
BEGIN:VTIMEZONE
TZID:Europe/Berlin
BEGIN:STANDARD
DTSTART:19701025T030000
TZOFFSETFROM:+0200
TZOFFSETTO:+0100
RRULE:FREQ=YEARLY;BYDAY=-1SU;BYMONTH=10
TZNAME:CET
END:STANDARD
BEGIN:DAYLIGHT
DTSTART:19700329T020000
TZOFFSETFROM:+0100
TZOFFSETTO:+0200
RRULE:FREQ=YEARLY;BYDAY=-1SU;BYMONTH=3
TZNAME:CEST
END:DAYLIGHT
END:VTIMEZONE
BEGIN:VEVENT
UID:20260314T180000-145724@evangelische-termine.de
DTSTAMP:20260421T090833Z
DESCRIPTION:\nUntertitel: musikalischer Sonn-Abend-Gottesdienst\nVeranstalt
 ungsort: Lutherkirche Oberfrohna\n09212 Limbach-Oberfrohna\nmusikalische K
 ategorie: Bands/Gospelchöre/Liedermacher/Musical\nInterpreten: Anna Heimth
 al mit Gesang\, Gitarre\, Violine...\nAufgeführte Werke: Eigene Songs über
  das Leben\, die Liebe und den Glauben.\nBesondere Hinweise: Die Balladen 
 der Singer/Songwriterin Anna Heimthal laden ein zu einer emotionale Reise 
 bei der es um das Lieben und Geliebt-Werden und Fragen nach Gott im Angesi
 cht dieser Welt geht. Neben ihrer Stimme und Gitarrensounds erklingt immer
  wieder auch ihre Violine. Im Anschluss Imbiss.\nArt der Veranstaltung: Go
 ttesdienste\; Konzerte/Theater/Musik\nAnsprechpartner: Johannes Baldauf\nE
 -Mail: johannes.baldauf@evlks.de
DTSTART;TZID=Europe/Berlin:20260314T180000
DTEND;TZID=Europe/Berlin:20260314T190000
LOCATION:Limbach-Oberfrohna: Lutherkirche Oberfrohna
SUMMARY:Musikvesper mit Anna Heimthal :: christliche Balladen im modernen S
 inger/Songwriter-Stil
URL:https://kalender.evlks.de/veranstaltung_im_detail145724.html
END:VEVENT
END:VCALENDAR
