BEGIN:VCALENDAR
VERSION:2.0
PRODID:-//evangelische-termine.de//NONSGML kigkonsult.se iCalcreator 2.18//
CALSCALE:GREGORIAN
METHOD:PUBLISH
X-WR-CALNAME:iCal Evangelische-Termine 21.04.2026
X-WR-CALDESC:iCalender von Evangelische-Termine (21.04.2026)
X-WR-TIMEZONE:Europe/Berlin
X-MS-OLK-FORCEINSPECTOROPEN:TRUE
BEGIN:VTIMEZONE
TZID:Europe/Berlin
BEGIN:STANDARD
DTSTART:19701025T030000
TZOFFSETFROM:+0200
TZOFFSETTO:+0100
RRULE:FREQ=YEARLY;BYDAY=-1SU;BYMONTH=10
TZNAME:CET
END:STANDARD
BEGIN:DAYLIGHT
DTSTART:19700329T020000
TZOFFSETFROM:+0100
TZOFFSETTO:+0200
RRULE:FREQ=YEARLY;BYDAY=-1SU;BYMONTH=3
TZNAME:CEST
END:DAYLIGHT
END:VTIMEZONE
BEGIN:VEVENT
UID:20260514T100000-147489@evangelische-termine.de
DTSTAMP:20260421T051211Z
DESCRIPTION:\nKurzbeschreibung: Posaunenchöre\nVeranstaltungsort: Kreuzkirc
 he Chemnitz\nHenriettenstraße 36\n09112 Chemnitz\nArt der Veranstaltung: G
 ottesdienste\nGottesdienstleitende: Pfarrerin Dorothee Lücke\nKindergottes
 dienst: mit Kindergottesdienst
DTSTART;TZID=Europe/Berlin:20260514T100000
DTEND;TZID=Europe/Berlin:20260514T110000
LOCATION:Chemnitz: Kreuzkirche Chemnitz
SUMMARY:Regionaler Freiluftgottesdienst im Kirchgarten der Kreuzkirche :: C
 hristi Himmelfahrt
URL:https://kalender.evlks.de/veranstaltung_im_detail147489.html
END:VEVENT
END:VCALENDAR
