BEGIN:VCALENDAR
VERSION:2.0
PRODID:-//evangelische-termine.de//NONSGML kigkonsult.se iCalcreator 2.18//
CALSCALE:GREGORIAN
METHOD:PUBLISH
X-WR-CALNAME:iCal Evangelische-Termine 22.04.2026
X-WR-CALDESC:iCalender von Evangelische-Termine (22.04.2026)
X-WR-TIMEZONE:Europe/Berlin
X-MS-OLK-FORCEINSPECTOROPEN:TRUE
BEGIN:VTIMEZONE
TZID:Europe/Berlin
BEGIN:STANDARD
DTSTART:19701025T030000
TZOFFSETFROM:+0200
TZOFFSETTO:+0100
RRULE:FREQ=YEARLY;BYDAY=-1SU;BYMONTH=10
TZNAME:CET
END:STANDARD
BEGIN:DAYLIGHT
DTSTART:19700329T020000
TZOFFSETFROM:+0100
TZOFFSETTO:+0200
RRULE:FREQ=YEARLY;BYDAY=-1SU;BYMONTH=3
TZNAME:CEST
END:DAYLIGHT
END:VTIMEZONE
BEGIN:VEVENT
UID:20260706T000000-147702@evangelische-termine.de
DTSTAMP:20260422T062246Z
DESCRIPTION:\nOrt: Ev. Gemeindezentrum Coswig\nRavensburger Platz 6\n01640 
 Coswig\nAusführliche Beschreibung: Das Kirchspiel Coswig-Weinböhla-Niedera
 u lädt interessierte Kinder der 1.-6. Klasse täglich vom 06. bis 10. Juli 
 zum Einstudieren des Kindermusicals  ins Evangelische Gemeindezentrum (Rav
 ensburger Platz 6) in Coswig ein.\nGemeinsam mit Kantorin Juliane Mütze\, 
 Kantor Friedrich Sacher und Jugendwart Denis Kirchhoff gibt es neben dem m
 usikalischen Einstudieren ein abwechslungsreiches Tagesprogramm und lassen
  die ersten Ferientage zu einer erlebnisreichen Zeit werden.\nDie Aufführu
 ng wird am Sonntag\, den 12. Juli in der Weinböhlaer Kirche sein.\n\nDer T
 agesverlauf\n8:00- 9:30 Uhr Zeit zum Ankommen mit Frühstück\n9:30 – 15:30 
 Uhr Programmzeit\n15:30 – 16:30 Uhr Abholzeit\nSonntag\, 12. Juli  Aufführ
 ung in der Kirche in Weinböhla\n\nFür das gemeinsame Erleben und Einstudie
 ren bitten wir\, dass an allen Tagen teilgenommen wird.\nTeilnahmebeitrag:
  70\,00 € muss ich\,  80\,00 € kann ich zahlen\n\nLeistungen: Frühstück\, 
 Mittag\, Vesper\, Programm\nBei finanziellen familiären Herausforderungen 
 sprecht gern das Leitungsteam wegen einer Unterstützung an!\n\nLeitung: Ju
 liane Mütze\, Friedrich Sacher\, Denis Kirchhoff\n\nAnmeldeschluss: 10.06.
 2026 / Max. Teilnehmerzahl: 30\nArt der Veranstaltung: Freizeiten/Reisen\;
  Sport/Spiel\; Sonstiges\nE-Mail: evjugend.meigro@evlks.de\nAnsprechperson
 : Denis Kirchhoff evjugend.meigro@evlks.de\n0170 5918919
DTSTART;VALUE=DATE:20260706
DTEND;VALUE=DATE:20260711
LOCATION:Coswig: Ev. Gemeindezentrum Coswig
SUMMARY:Kindermusical-Ferientage Coswig :: Aufführung am 12.07.2026
URL:https://kalender.evlks.de/veranstaltung_im_detail147702.html
END:VEVENT
END:VCALENDAR
