BEGIN:VCALENDAR
VERSION:2.0
PRODID:-//evangelische-termine.de//NONSGML kigkonsult.se iCalcreator 2.18//
CALSCALE:GREGORIAN
METHOD:PUBLISH
X-WR-CALNAME:iCal Evangelische-Termine 22.04.2026
X-WR-CALDESC:iCalender von Evangelische-Termine (22.04.2026)
X-WR-TIMEZONE:Europe/Berlin
X-MS-OLK-FORCEINSPECTOROPEN:TRUE
BEGIN:VTIMEZONE
TZID:Europe/Berlin
BEGIN:STANDARD
DTSTART:19701025T030000
TZOFFSETFROM:+0200
TZOFFSETTO:+0100
RRULE:FREQ=YEARLY;BYDAY=-1SU;BYMONTH=10
TZNAME:CET
END:STANDARD
BEGIN:DAYLIGHT
DTSTART:19700329T020000
TZOFFSETFROM:+0100
TZOFFSETTO:+0200
RRULE:FREQ=YEARLY;BYDAY=-1SU;BYMONTH=3
TZNAME:CEST
END:DAYLIGHT
END:VTIMEZONE
BEGIN:VEVENT
UID:20260606T180000-147996@evangelische-termine.de
DTSTAMP:20260422T123931Z
DESCRIPTION:\nVeranstaltungsort: St. Jakobikirche Chemnitz\nJakobikirchplat
 z 1\n09111 Chemnitz\nmusikalische Kategorie: Gesang/Chormusik\nInterpreten
 : Kantorei der Kreuzkirche \nSteffen Walther – Leitung\nAufgeführte Werke:
  Werke von Johann Sebastian Bach\, \nJosef Gabriel Rheinberger u. a.\nArt 
 der Veranstaltung: Konzerte/Theater/Musik
DTSTART;TZID=Europe/Berlin:20260606T180000
DTEND;TZID=Europe/Berlin:20260606T190000
LOCATION:Chemnitz: St. Jakobikirche Chemnitz
SUMMARY:Jakobivesper 'Fürchte dich nicht'
URL:https://kalender.evlks.de/veranstaltung_im_detail147996.html
END:VEVENT
END:VCALENDAR
