BEGIN:VCALENDAR
VERSION:2.0
PRODID:-//evangelische-termine.de//NONSGML kigkonsult.se iCalcreator 2.18//
CALSCALE:GREGORIAN
METHOD:PUBLISH
X-WR-CALNAME:iCal Evangelische-Termine 24.04.2026
X-WR-CALDESC:iCalender von Evangelische-Termine (24.04.2026)
X-WR-TIMEZONE:Europe/Berlin
X-MS-OLK-FORCEINSPECTOROPEN:TRUE
BEGIN:VTIMEZONE
TZID:Europe/Berlin
BEGIN:STANDARD
DTSTART:19701025T030000
TZOFFSETFROM:+0200
TZOFFSETTO:+0100
RRULE:FREQ=YEARLY;BYDAY=-1SU;BYMONTH=10
TZNAME:CET
END:STANDARD
BEGIN:DAYLIGHT
DTSTART:19700329T020000
TZOFFSETFROM:+0100
TZOFFSETTO:+0200
RRULE:FREQ=YEARLY;BYDAY=-1SU;BYMONTH=3
TZNAME:CEST
END:DAYLIGHT
END:VTIMEZONE
BEGIN:VEVENT
UID:20260704T140000-148109@evangelische-termine.de
DTSTAMP:20260424T085525Z
DESCRIPTION:\nOrt: Löbtau\, Friedenskirche\nWernerstraße 32\n01159 Dresden
 \nArt der Veranstaltung: Sport/Spiel\nInternetadresse (eigene Infos im Int
 ernet): https://landing.churchdesk.com/de/e/47254267/kletterkirche\nMitwir
 kende: AG Friedenskirche
DTSTART;TZID=Europe/Berlin:20260704T140000
DTEND;TZID=Europe/Berlin:20260704T150000
LOCATION:Dresden: Löbtau\, Friedenskirche
SUMMARY:Kletterkirche
URL:https://kalender.evlks.de/veranstaltung_im_detail148109.html
END:VEVENT
END:VCALENDAR
