BEGIN:VCALENDAR
VERSION:2.0
PRODID:-//evangelische-termine.de//NONSGML kigkonsult.se iCalcreator 2.18//
CALSCALE:GREGORIAN
METHOD:PUBLISH
X-WR-CALNAME:iCal Evangelische-Termine 25.04.2026
X-WR-CALDESC:iCalender von Evangelische-Termine (25.04.2026)
X-WR-TIMEZONE:Europe/Berlin
X-MS-OLK-FORCEINSPECTOROPEN:TRUE
BEGIN:VTIMEZONE
TZID:Europe/Berlin
BEGIN:STANDARD
DTSTART:19701025T030000
TZOFFSETFROM:+0200
TZOFFSETTO:+0100
RRULE:FREQ=YEARLY;BYDAY=-1SU;BYMONTH=10
TZNAME:CET
END:STANDARD
BEGIN:DAYLIGHT
DTSTART:19700329T020000
TZOFFSETFROM:+0100
TZOFFSETTO:+0200
RRULE:FREQ=YEARLY;BYDAY=-1SU;BYMONTH=3
TZNAME:CEST
END:DAYLIGHT
END:VTIMEZONE
BEGIN:VEVENT
UID:20260507T193000-148712@evangelische-termine.de
DTSTAMP:20260425T204945Z
DESCRIPTION:\nOnline/Offline: Vollständig Online Synchron (z.B. Webinar)\nP
 reis/Kosten: kostenfrei\nAusführliche Beschreibung: Wenn Kirchgemeinden Se
 niorenkreise anbieten\, einen Projektchor starten oder kleine Kinder mit i
 hren Eltern einmal in der Woche in den Krabbelkreis einladen\, leisten sie
  faktisch Bildungsarbeit. Und für solche Bildungsarbeit gibt es in Sachsen
  Fördermittel vom Freistaat. Angesichts knapper finanzieller Spielräume in
  der Kirche ist das eine gute Nachricht. Leider nutzen die meisten Kirchge
 meinden diese Möglichkeit noch nicht. Dabei ist es gar nicht so schwer und
  aufwändig\, an diese Fördermittel zu kommen. Wie es geht\, was Sie zum Be
 ispiel bei der Ausschreibung des Seniorenkreises beachten müssen\, erfahre
 n Sie in diesem einstündigen Webinar. In der ersten Hälfte des Webinars er
 klärt Annemarie Schrader an konkreten Beispielen\, wie Kirchgemeinden Förd
 ermittel abrufen können. In der zweiten Hälfte gibt es Gelegenheit für Ihr
 e Fragen.\nDie Veranstaltung ist eine Kooperation zwischen der Ehrenamtsak
 ademie und der Evangelischen Erwachsenenbildung Sachsen.\n\nDas Webinar wi
 rd am 7. Mai zweimal angeboten\, einmal am Vormittag und einmal am Abend.
 \nBitte melden Sie sich nur für einen der beiden Termine an!\nKontakt: Ehr
 enamtsakademie der EVLKS\nFreiheit 15\, 01662 Meißen\nTelefon: 03521 47065
 3\nE-Mail: ehrenamtsakademie@evlks.de\nwww.ehrenamtsakademie-sachsen.de\nR
 eferent/-innen: Annemarie Schrader\, Evangelische Erwachsenenbildung Sachs
 en\nDr. Kathrin Mette\, Ehrenamtsakademie\nBerufsgruppe: Ehrenamtliche\; V
 erwaltungsangestellte\nArt der Veranstaltung: Fortbildungen/Seminare/Vortr
 äge
DTSTART;TZID=Europe/Berlin:20260507T193000
DTEND;TZID=Europe/Berlin:20260507T203000
LOCATION:Sachsen: Online
SUMMARY:Geld vom Freistaat für meine Gemeindeveranstaltung
URL:https://kalender.evlks.de/veranstaltung_im_detail148712.html
END:VEVENT
END:VCALENDAR
