BEGIN:VCALENDAR
VERSION:2.0
PRODID:-//evangelische-termine.de//NONSGML kigkonsult.se iCalcreator 2.18//
CALSCALE:GREGORIAN
METHOD:PUBLISH
X-WR-CALNAME:iCal Evangelische-Termine 20.04.2026
X-WR-CALDESC:iCalender von Evangelische-Termine (20.04.2026)
X-WR-TIMEZONE:Europe/Berlin
X-MS-OLK-FORCEINSPECTOROPEN:TRUE
BEGIN:VTIMEZONE
TZID:Europe/Berlin
BEGIN:STANDARD
DTSTART:19701025T030000
TZOFFSETFROM:+0200
TZOFFSETTO:+0100
RRULE:FREQ=YEARLY;BYDAY=-1SU;BYMONTH=10
TZNAME:CET
END:STANDARD
BEGIN:DAYLIGHT
DTSTART:19700329T020000
TZOFFSETFROM:+0100
TZOFFSETTO:+0200
RRULE:FREQ=YEARLY;BYDAY=-1SU;BYMONTH=3
TZNAME:CEST
END:DAYLIGHT
END:VTIMEZONE
BEGIN:VEVENT
UID:20260503T143000-150095@evangelische-termine.de
DTSTAMP:20260420T210256Z
DESCRIPTION:\nVeranstaltungsort: Kirche Rechenberg\n09623 Rechenberg-Bienen
 mühle\nStellflächen oberhalb des Friedhofs.\nToilette auf Anfrage im UG de
 r Trauerhalle.\nNicht barrierefrei.\nArt der Veranstaltung: Gottesdienste
 \nGottesdienstleitende: Kantor Christian Domke christian.domke@evlks.de
DTSTART;TZID=Europe/Berlin:20260503T143000
DTEND;TZID=Europe/Berlin:20260503T153000
LOCATION:Rechenberg-Bienenmühle: Kirche Rechenberg
SUMMARY:Frühlingsmusik zu Kantate
URL:https://kalender.evlks.de/veranstaltung_im_detail150095.html
END:VEVENT
END:VCALENDAR
