BEGIN:VCALENDAR
VERSION:2.0
PRODID:-//evangelische-termine.de//NONSGML kigkonsult.se iCalcreator 2.18//
CALSCALE:GREGORIAN
METHOD:PUBLISH
X-WR-CALNAME:iCal Evangelische-Termine 24.04.2026
X-WR-CALDESC:iCalender von Evangelische-Termine (24.04.2026)
X-WR-TIMEZONE:Europe/Berlin
X-MS-OLK-FORCEINSPECTOROPEN:TRUE
BEGIN:VTIMEZONE
TZID:Europe/Berlin
BEGIN:STANDARD
DTSTART:19701025T030000
TZOFFSETFROM:+0200
TZOFFSETTO:+0100
RRULE:FREQ=YEARLY;BYDAY=-1SU;BYMONTH=10
TZNAME:CET
END:STANDARD
BEGIN:DAYLIGHT
DTSTART:19700329T020000
TZOFFSETFROM:+0100
TZOFFSETTO:+0200
RRULE:FREQ=YEARLY;BYDAY=-1SU;BYMONTH=3
TZNAME:CEST
END:DAYLIGHT
END:VTIMEZONE
BEGIN:VEVENT
UID:20231223T160000-15653@evangelische-termine.de
DTSTAMP:20260424T091345Z
DESCRIPTION:\nVeranstaltungsort: Dom zu Meißen\nDomplatz\n01662 Meißen\nAus
 führliche Beschreibung: Choralvorspiele\, Orgelsolowerke\, bekannte und un
 bekannte Adventsweisen erklingen an der großen Domorgel\, gespielt von Dom
 kantor Thorsten Göbel. Nehmen Sie sich Zeit zum innehalten\, aufatmen und 
 genießen und öffnen Sie der Vorfreude auf Weihnachten Herz und Seele!\nDom
 kantor Thorsten Göbel (Orgel)\nTermine 2023: \nSa 09.12. 16:00 Uhr\nSo 10.
 12. 15:00 Uhr\nSo 17.12. 15:00 Uhr\nSa 23.12. 16:00 Uhr\nHinweis: inkl. Be
 sichtigung von Dom und Dom-Museum (Vor dem Konzert).\nAnmeldung: https://d
 om-zu-meissen.ticketfritz.de/\nPreis: Freie Platzwahl\, 8\,00 EUR / erm. 7
 \,00 EUR
DTSTART;TZID=Europe/Berlin:20231223T160000
DTEND;TZID=Europe/Berlin:20231223T170000
LOCATION:Meißen: Dom zu Meißen
SUMMARY:30 Minuten Orgelmusik zum Advent
URL:https://kalender.evlks.de/veranstaltung_im_detail15653.html
END:VEVENT
END:VCALENDAR
