BEGIN:VCALENDAR
VERSION:2.0
PRODID:-//evangelische-termine.de//NONSGML kigkonsult.se iCalcreator 2.18//
CALSCALE:GREGORIAN
METHOD:PUBLISH
X-WR-CALNAME:iCal Evangelische-Termine 21.04.2026
X-WR-CALDESC:iCalender von Evangelische-Termine (21.04.2026)
X-WR-TIMEZONE:Europe/Berlin
X-MS-OLK-FORCEINSPECTOROPEN:TRUE
BEGIN:VTIMEZONE
TZID:Europe/Berlin
BEGIN:STANDARD
DTSTART:19701025T030000
TZOFFSETFROM:+0200
TZOFFSETTO:+0100
RRULE:FREQ=YEARLY;BYDAY=-1SU;BYMONTH=10
TZNAME:CET
END:STANDARD
BEGIN:DAYLIGHT
DTSTART:19700329T020000
TZOFFSETFROM:+0100
TZOFFSETTO:+0200
RRULE:FREQ=YEARLY;BYDAY=-1SU;BYMONTH=3
TZNAME:CEST
END:DAYLIGHT
END:VTIMEZONE
BEGIN:VEVENT
UID:20260509T160000-157586@evangelische-termine.de
DTSTAMP:20260421T033012Z
DESCRIPTION:\nUntertitel: Familienkonzert mit dem Blechblasensemble und Hor
 nensembles des Heinrich-Schütz-Konservatorium Dresden\nVeranstaltungsort: 
 St. Michael Kirche Dresden Bühlau\nQuohrener Straße 18\n01324 Dresden\nmus
 ikalische Kategorie: Bläsermusik\nInterpreten: Blechblasensemble und Horne
 nsemble des Heinrich-Schütz-Konservatoriums Dresden\nLeitung: Andreas Roth
 \nAufgeführte Werke: Es erklingen Werke von Schütz\, Bizet und Turner\nEin
 tritt: Eintritt frei!\nArt der Veranstaltung: Konzerte/Theater/Musik
DTSTART;TZID=Europe/Berlin:20260509T160000
DTEND;TZID=Europe/Berlin:20260509T171500
LOCATION:Dresden: St. Michael Kirche Dresden Bühlau
SUMMARY:Blechbläserkonzert :: Es erklingen Werke von Schütz\, Bizet und Tur
 ner
URL:https://kalender.evlks.de/veranstaltung_im_detail157586.html
END:VEVENT
END:VCALENDAR
