BEGIN:VCALENDAR
VERSION:2.0
PRODID:-//evangelische-termine.de//NONSGML kigkonsult.se iCalcreator 2.18//
CALSCALE:GREGORIAN
METHOD:PUBLISH
X-WR-CALNAME:iCal Evangelische-Termine 21.04.2026
X-WR-CALDESC:iCalender von Evangelische-Termine (21.04.2026)
X-WR-TIMEZONE:Europe/Berlin
X-MS-OLK-FORCEINSPECTOROPEN:TRUE
BEGIN:VTIMEZONE
TZID:Europe/Berlin
BEGIN:STANDARD
DTSTART:19701025T030000
TZOFFSETFROM:+0200
TZOFFSETTO:+0100
RRULE:FREQ=YEARLY;BYDAY=-1SU;BYMONTH=10
TZNAME:CET
END:STANDARD
BEGIN:DAYLIGHT
DTSTART:19700329T020000
TZOFFSETFROM:+0100
TZOFFSETTO:+0200
RRULE:FREQ=YEARLY;BYDAY=-1SU;BYMONTH=3
TZNAME:CEST
END:DAYLIGHT
END:VTIMEZONE
BEGIN:VEVENT
UID:20260525T150000-158091@evangelische-termine.de
DTSTAMP:20260420T220356Z
DESCRIPTION:\nVeranstaltungsort: Kirche Naunhof\nSchulstraße 19\n01561 Eber
 sbach\nOT Naunhof\nhttps://goo.gl/maps/25nDrM5m5pcHvC437\nmusikalische Kat
 egorie: Ensembles/Solisten\nArt der Veranstaltung: Konzerte/Theater/Musik
 \nAnsprechpartner: Christoph Bellmann (Kantor)
DTSTART;TZID=Europe/Berlin:20260525T150000
DTEND;TZID=Europe/Berlin:20260525T160000
LOCATION:Ebersbach: Kirche Naunhof
SUMMARY:OFFENE Kirche mit Musik
URL:https://kalender.evlks.de/veranstaltung_im_detail158091.html
END:VEVENT
END:VCALENDAR
